FILENAME: O4710702.NWS.1112695.tif
QUADRANGLE_NAME: WHITCOMB LAKE
QUADRANT: NW
WEST_LONGITUDE: -107 52 30.00000
EAST_LONGITUDE: -107 48 45.00000
NORTH_LATITUDE: 48 0 0.00000
SOUTH_LATITUDE: 47 56 15.00000
PRODUCTION_DATE: 2000 11 6
RASTER_ORDER: LEFT_RIGHT/TOP_BOTTOM
BAND_ORGANIZATION: SINGLE FILE
BAND_CONTENT: BLACK&WHITE
BAND_CONTENT: UNDEFINED
BAND_CONTENT: UNDEFINED
BITS_PER_PIXEL: 8
SAMPLES_AND_LINES: 5574 7722
HORIZONTAL_DATUM: NAD83
HORIZONTAL_COORDINATE_SYSTEM: UTM
COORDINATE_ZONE: 13
HORIZONTAL_UNITS: METERS
HORIZONTAL_RESOLUTION: 1.00000
SECONDARY_HORIZONTAL_DATUM: NAD27
XY_ORIGIN: 284936.00000 5320602.00000
SECONDARY_XY_ORIGIN: 284979.54900 5320381.73500
NATION: US
NATION: "SCIENCE
STATE: MT
NW_QUAD_CORNER_XY: 285547.24900 5320300.26000
NE_QUAD_CORNER_XY: 290208.87200 5320128.17700
SE_QUAD_CORNERY_XY: 289955.41900 5313182.46000
SW_QUAD_CORNER_XY: 285288.15600 5313354.58200
SECONDARY_NW_QUAD_XY: 285540.50000 5320081.50600
SECONDARY_NE_QUAD_XY: 290202.26900 5319909.41700
SECONDARY_SE_QUAD_XY: 289948.81700 5312963.71500
SECONDARY_SW_QUAD_XY: 285281.40700 5313135.84200
RMSE_XY: 0.70000
IMAGE_SOURCE: BLACK AND WHITE FILM
SOURCE_IMAGE_ID: NAPP 9132 086
SOURCE_IMAGE_DATE: 1996 07 29
SOURCE_DEM_DATE: 1965 00 00
AGENCY: WESTERN MAPPING CENTER (WMC)
PRODUCER: UNDEFINED
PRODUCTION_SYSTEM: GIS/MAGIC
COMPRESSION: UNDEFINED
STANDARD_VERSION: 1996 12
METADATA_DATE: 2000 11 15
DATA_FILE_SIZE: 43048002
BYTE_COUNT: 5574
