FILENAME: O4710702.SWS.1112697.tif
QUADRANGLE_NAME: WHITCOMB LAKE
QUADRANT: SW
WEST_LONGITUDE: -107 52 30.00000
EAST_LONGITUDE: -107 48 45.00000
NORTH_LATITUDE: 47 56 15.00000
SOUTH_LATITUDE: 47 52 30.00000
PRODUCTION_DATE: 2000 11 6
RASTER_ORDER: LEFT_RIGHT/TOP_BOTTOM
BAND_ORGANIZATION: SINGLE FILE
BAND_CONTENT: BLACK&WHITE
BAND_CONTENT: UNDEFINED
BAND_CONTENT: UNDEFINED
BITS_PER_PIXEL: 8
SAMPLES_AND_LINES: 5579 7723
HORIZONTAL_DATUM: NAD83
HORIZONTAL_COORDINATE_SYSTEM: UTM
COORDINATE_ZONE: 13
HORIZONTAL_UNITS: METERS
HORIZONTAL_RESOLUTION: 1.00000
SECONDARY_HORIZONTAL_DATUM: NAD27
XY_ORIGIN: 284678.00000 5313657.00000
SECONDARY_XY_ORIGIN: 284721.53800 5313436.73100
NATION: US
NATION: "SCIENCE
STATE: MT
NW_QUAD_CORNER_XY: 285288.15600 5313354.58200
NE_QUAD_CORNER_XY: 289955.41900 5313182.46000
SE_QUAD_CORNERY_XY: 289702.21700 5306236.80000
SW_QUAD_CORNER_XY: 285029.32000 5306408.96000
SECONDARY_NW_QUAD_XY: 285281.40700 5313135.84200
SECONDARY_NE_QUAD_XY: 289948.81700 5312963.71500
SECONDARY_SE_QUAD_XY: 289695.61600 5306018.07100
SECONDARY_SW_QUAD_XY: 285022.57100 5306190.23600
RMSE_XY: 0.60000
IMAGE_SOURCE: BLACK AND WHITE FILM
SOURCE_IMAGE_ID: NAPP 9132 084
SOURCE_IMAGE_DATE: 1996 07 29
SOURCE_DEM_DATE: 1965 00 00
AGENCY: WESTERN MAPPING CENTER (WMC)
PRODUCER: UNDEFINED
PRODUCTION_SYSTEM: GIS/MAGIC
COMPRESSION: UNDEFINED
STANDARD_VERSION: 1996 12
METADATA_DATE: 2000 11 15
DATA_FILE_SIZE: 43092196
BYTE_COUNT: 5579
