FILENAME: O4710864.NES.1118287.tif
QUADRANGLE_NAME: CAT CREEK
QUADRANT: NE
WEST_LONGITUDE: -108 3 45.00000
EAST_LONGITUDE: -108 0 0.00000
NORTH_LATITUDE: 47 7 30.00000
SOUTH_LATITUDE: 47 3 45.00000
PRODUCTION_DATE: 2000 10 31
RASTER_ORDER: LEFT_RIGHT/TOP_BOTTOM
BAND_ORGANIZATION: SINGLE FILE
BAND_CONTENT: BLACK&WHITE
BAND_CONTENT: UNDEFINED
BAND_CONTENT: UNDEFINED
BITS_PER_PIXEL: 8
SAMPLES_AND_LINES: 5661 7732
HORIZONTAL_DATUM: NAD83
HORIZONTAL_COORDINATE_SYSTEM: UTM
COORDINATE_ZONE: 12
HORIZONTAL_UNITS: METERS
HORIZONTAL_RESOLUTION: 1.00000
SECONDARY_HORIZONTAL_DATUM: NAD27
XY_ORIGIN: 722444.00000 5223723.00000
SECONDARY_XY_ORIGIN: 722501.85100 5223507.82300
NATION: US
NATION: "SCIENCE
STATE: MT
NW_QUAD_CORNER_XY: 722796.61500 5223242.29200
NE_QUAD_CORNER_XY: 727536.65300 5223422.44100
SE_QUAD_CORNERY_XY: 727803.24500 5216477.61700
SW_QUAD_CORNER_XY: 723057.64400 5216297.43900
SECONDARY_NW_QUAD_XY: 722803.50000 5223023.83200
SECONDARY_NE_QUAD_XY: 727543.68500 5223203.98600
SECONDARY_SE_QUAD_XY: 727810.27700 5216259.18900
SECONDARY_SW_QUAD_XY: 723064.52900 5216079.00600
RMSE_XY: 1.70000
IMAGE_SOURCE: BLACK AND WHITE FILM
SOURCE_IMAGE_ID: NAPP 9142 089
SOURCE_IMAGE_DATE: 1996 08 24
SOURCE_IMAGE_ID: NAPP 9142 090
SOURCE_IMAGE_DATE: 1996 08 24
SOURCE_DEM_DATE: 1986 00 00
AGENCY: WESTERN MAPPING CENTER (WMC)
PRODUCER: UNDEFINED
PRODUCTION_SYSTEM: GIS/MAGIC
COMPRESSION: UNDEFINED
STANDARD_VERSION: 1996 12
METADATA_DATE: 2000 11 14
DATA_FILE_SIZE: 43776513
BYTE_COUNT: 5661
