FILENAME: O4710864.SES.1118289.tif
QUADRANGLE_NAME: CAT CREEK
QUADRANT: SE
WEST_LONGITUDE: -108 3 45.00000
EAST_LONGITUDE: -108 0 0.00000
NORTH_LATITUDE: 47 3 45.00000
SOUTH_LATITUDE: 47 0 0.00000
PRODUCTION_DATE: 2000 10 31
RASTER_ORDER: LEFT_RIGHT/TOP_BOTTOM
BAND_ORGANIZATION: SINGLE FILE
BAND_CONTENT: BLACK&WHITE
BAND_CONTENT: UNDEFINED
BAND_CONTENT: UNDEFINED
BITS_PER_PIXEL: 8
SAMPLES_AND_LINES: 5666 7732
HORIZONTAL_DATUM: NAD83
HORIZONTAL_COORDINATE_SYSTEM: UTM
COORDINATE_ZONE: 12
HORIZONTAL_UNITS: METERS
HORIZONTAL_RESOLUTION: 1.00000
SECONDARY_HORIZONTAL_DATUM: NAD27
XY_ORIGIN: 722705.00000 5216778.00000
SECONDARY_XY_ORIGIN: 722762.92100 5216563.03500
NATION: US
NATION: "SCIENCE
STATE: MT
NW_QUAD_CORNER_XY: 723057.64400 5216297.43900
NE_QUAD_CORNER_XY: 727803.24500 5216477.61700
SE_QUAD_CORNERY_XY: 728069.56500 5209532.84800
SW_QUAD_CORNER_XY: 723318.40700 5209352.64200
SECONDARY_NW_QUAD_XY: 723064.52900 5216079.00600
SECONDARY_NE_QUAD_XY: 727810.27700 5216259.18900
SECONDARY_SE_QUAD_XY: 728076.59500 5209314.44800
SECONDARY_SW_QUAD_XY: 723325.29100 5209134.23700
RMSE_XY: 4.60000
IMAGE_SOURCE: BLACK AND WHITE FILM
SOURCE_IMAGE_ID: NAPP 9142 087
SOURCE_IMAGE_DATE: 1996 08 24
SOURCE_DEM_DATE: 1986 00 00
AGENCY: WESTERN MAPPING CENTER (WMC)
PRODUCER: UNDEFINED
PRODUCTION_SYSTEM: GIS/MAGIC
COMPRESSION: UNDEFINED
STANDARD_VERSION: 1996 12
METADATA_DATE: 2000 11 14
DATA_FILE_SIZE: 43815178
BYTE_COUNT: 5666
