FILENAME: O4710861.SES.1118240.tif
QUADRANGLE_NAME: LITTLE BEAR LAKE
QUADRANT: SE
WEST_LONGITUDE: -108 26 15.00000
EAST_LONGITUDE: -108 22 30.00000
NORTH_LATITUDE: 47 3 45.00000
SOUTH_LATITUDE: 47 0 0.00000
PRODUCTION_DATE: 2000 10 30
RASTER_ORDER: LEFT_RIGHT/TOP_BOTTOM
BAND_ORGANIZATION: SINGLE FILE
BAND_CONTENT: BLACK&WHITE
BAND_CONTENT: UNDEFINED
BAND_CONTENT: UNDEFINED
BITS_PER_PIXEL: 8
SAMPLES_AND_LINES: 5634 7709
HORIZONTAL_DATUM: NAD83
HORIZONTAL_COORDINATE_SYSTEM: UTM
COORDINATE_ZONE: 12
HORIZONTAL_UNITS: METERS
HORIZONTAL_RESOLUTION: 1.00000
SECONDARY_HORIZONTAL_DATUM: NAD27
XY_ORIGIN: 694230.00000 5215754.00000
SECONDARY_XY_ORIGIN: 694288.01500 5215539.35300
NATION: US
NATION: "SCIENCE
STATE: MT
NW_QUAD_CORNER_XY: 694583.65100 5215296.14000
NE_QUAD_CORNER_XY: 699329.36000 5215453.52800
SE_QUAD_CORNERY_XY: 699562.34500 5208508.60200
SW_QUAD_CORNER_XY: 694811.08200 5208351.18900
SECONDARY_NW_QUAD_XY: 694589.65700 5215077.67600
SECONDARY_NE_QUAD_XY: 699335.51300 5215235.06900
SECONDARY_SE_QUAD_XY: 699568.49700 5208290.17100
SECONDARY_SW_QUAD_XY: 694817.08700 5208132.75300
RMSE_XY: 1.50000
IMAGE_SOURCE: BLACK AND WHITE FILM
SOURCE_IMAGE_ID: NAPP 9137 177
SOURCE_IMAGE_DATE: 1996 08 23
SOURCE_DEM_DATE: 1975 00 00
AGENCY: WESTERN MAPPING CENTER (WMC)
PRODUCER: UNDEFINED
PRODUCTION_SYSTEM: GIS/MAGIC
COMPRESSION: UNDEFINED
STANDARD_VERSION: 1996 12
METADATA_DATE: 2000 11 14
DATA_FILE_SIZE: 43438140
BYTE_COUNT: 5634
