FILENAME: O4710860.NES.1118081.tif
QUADRANGLE_NAME: TEIGEN
QUADRANT: NE
WEST_LONGITUDE: -108 33 45.00000
EAST_LONGITUDE: -108 30 0.00000
NORTH_LATITUDE: 47 7 30.00000
SOUTH_LATITUDE: 47 3 45.00000
PRODUCTION_DATE: 2000 10 27
RASTER_ORDER: LEFT_RIGHT/TOP_BOTTOM
BAND_ORGANIZATION: SINGLE FILE
BAND_CONTENT: BLACK&WHITE
BAND_CONTENT: UNDEFINED
BAND_CONTENT: UNDEFINED
BITS_PER_PIXEL: 8
SAMPLES_AND_LINES: 5617 7702
HORIZONTAL_DATUM: NAD83
HORIZONTAL_COORDINATE_SYSTEM: UTM
COORDINATE_ZONE: 12
HORIZONTAL_UNITS: METERS
HORIZONTAL_RESOLUTION: 1.00000
SECONDARY_HORIZONTAL_DATUM: NAD27
XY_ORIGIN: 684522.00000 5222388.00000
SECONDARY_XY_ORIGIN: 684580.09300 5222173.33100
NATION: US
NATION: "SCIENCE
STATE: MT
NW_QUAD_CORNER_XY: 684875.63700 5221937.81300
NE_QUAD_CORNER_XY: 689615.82000 5222087.58400
SE_QUAD_CORNERY_XY: 689837.92500 5215142.54800
SW_QUAD_CORNER_XY: 685092.18300 5214992.75300
SECONDARY_NW_QUAD_XY: 684881.35100 5221719.31200
SECONDARY_NE_QUAD_XY: 689621.68000 5221869.08800
SECONDARY_SE_QUAD_XY: 689843.78400 5214924.07900
SECONDARY_SW_QUAD_XY: 685097.89600 5214774.28000
RMSE_XY: 1.40000
IMAGE_SOURCE: BLACK AND WHITE FILM
SOURCE_IMAGE_ID: NAPP 9138 073
SOURCE_IMAGE_DATE: 1996 08 23
SOURCE_IMAGE_ID: NAPP 9137 190
SOURCE_IMAGE_DATE: 1996 08 23
SOURCE_DEM_DATE: 1982 00 00
AGENCY: WESTERN MAPPING CENTER (WMC)
PRODUCER: UNDEFINED
PRODUCTION_SYSTEM: GIS/MAGIC
COMPRESSION: UNDEFINED
STANDARD_VERSION: 1996 12
METADATA_DATE: 2000 11 14
DATA_FILE_SIZE: 43267751
BYTE_COUNT: 5617
