FILENAME: O4710860.SES.1118083.tif
QUADRANGLE_NAME: TEIGEN
QUADRANT: SE
WEST_LONGITUDE: -108 33 45.00000
EAST_LONGITUDE: -108 30 0.00000
NORTH_LATITUDE: 47 3 45.00000
SOUTH_LATITUDE: 47 0 0.00000
PRODUCTION_DATE: 2000 10 27
RASTER_ORDER: LEFT_RIGHT/TOP_BOTTOM
BAND_ORGANIZATION: SINGLE FILE
BAND_CONTENT: BLACK&WHITE
BAND_CONTENT: UNDEFINED
BAND_CONTENT: UNDEFINED
BITS_PER_PIXEL: 8
SAMPLES_AND_LINES: 5623 7702
HORIZONTAL_DATUM: NAD83
HORIZONTAL_COORDINATE_SYSTEM: UTM
COORDINATE_ZONE: 12
HORIZONTAL_UNITS: METERS
HORIZONTAL_RESOLUTION: 1.00000
SECONDARY_HORIZONTAL_DATUM: NAD27
XY_ORIGIN: 684738.00000 5215443.00000
SECONDARY_XY_ORIGIN: 684796.07800 5215228.55600
NATION: US
NATION: "SCIENCE
STATE: MT
NW_QUAD_CORNER_XY: 685092.18300 5214992.75300
NE_QUAD_CORNER_XY: 689837.92500 5215142.54800
SE_QUAD_CORNERY_XY: 690059.80300 5208197.57400
SW_QUAD_CORNER_XY: 685308.50800 5208047.75600
SECONDARY_NW_QUAD_XY: 685097.89600 5214774.28000
SECONDARY_NE_QUAD_XY: 689843.78400 5214924.07900
SECONDARY_SE_QUAD_XY: 690065.66100 5207979.13300
SECONDARY_SW_QUAD_XY: 685314.21900 5207829.31000
RMSE_XY: 1.30000
IMAGE_SOURCE: BLACK AND WHITE FILM
SOURCE_IMAGE_ID: NAPP 9138 071
SOURCE_IMAGE_DATE: 1996 08 23
SOURCE_DEM_DATE: 1982 00 00
AGENCY: WESTERN MAPPING CENTER (WMC)
PRODUCER: UNDEFINED
PRODUCTION_SYSTEM: GIS/MAGIC
COMPRESSION: UNDEFINED
STANDARD_VERSION: 1996 12
METADATA_DATE: 2000 11 14
DATA_FILE_SIZE: 43313969
BYTE_COUNT: 5623
