FILENAME: O4710859.SWS.1118060.tif
QUADRANGLE_NAME: BRIGGS COULEE
QUADRANT: SW
WEST_LONGITUDE: -108 45 0.00000
EAST_LONGITUDE: -108 41 15.00000
NORTH_LATITUDE: 47 3 45.00000
SOUTH_LATITUDE: 47 0 0.00000
PRODUCTION_DATE: 2000 11 2
RASTER_ORDER: LEFT_RIGHT/TOP_BOTTOM
BAND_ORGANIZATION: SINGLE FILE
BAND_CONTENT: BLACK&WHITE
BAND_CONTENT: UNDEFINED
BAND_CONTENT: UNDEFINED
BITS_PER_PIXEL: 8
SAMPLES_AND_LINES: 5607 7691
HORIZONTAL_DATUM: NAD83
HORIZONTAL_COORDINATE_SYSTEM: UTM
COORDINATE_ZONE: 12
HORIZONTAL_UNITS: METERS
HORIZONTAL_RESOLUTION: 1.00000
SECONDARY_HORIZONTAL_DATUM: NAD27
XY_ORIGIN: 670500.00000 5215005.00000
SECONDARY_XY_ORIGIN: 670558.18100 5214790.85500
NATION: US
NATION: "SCIENCE
STATE: MT
NW_QUAD_CORNER_XY: 670854.86400 5214566.14500
NE_QUAD_CORNER_XY: 675600.65200 5214704.55200
SE_QUAD_CORNERY_XY: 675805.87200 5207759.51000
SW_QUAD_CORNER_XY: 671054.53200 5207621.08200
SECONDARY_NW_QUAD_XY: 670860.13700 5214347.65800
SECONDARY_NE_QUAD_XY: 675606.07200 5214486.06900
SECONDARY_SE_QUAD_XY: 675811.29100 5207541.05600
SECONDARY_SW_QUAD_XY: 671059.80500 5207402.62300
RMSE_XY: 1.70000
IMAGE_SOURCE: BLACK AND WHITE FILM
SOURCE_IMAGE_ID: NAPP 9140 055
SOURCE_IMAGE_DATE: 1996 08 23
SOURCE_DEM_DATE: 1982 00 00
AGENCY: WESTERN MAPPING CENTER (WMC)
PRODUCER: UNDEFINED
PRODUCTION_SYSTEM: GIS/MAGIC
COMPRESSION: UNDEFINED
STANDARD_VERSION: 1996 12
METADATA_DATE: 2000 11 14
DATA_FILE_SIZE: 43129044
BYTE_COUNT: 5607
