FILENAME: O4710858.SWS.1118096.tif
QUADRANGLE_NAME: GRASS RANGE
QUADRANT: SW
WEST_LONGITUDE: -108 52 30.00000
EAST_LONGITUDE: -108 48 45.00000
NORTH_LATITUDE: 47 3 45.00000
SOUTH_LATITUDE: 47 0 0.00000
PRODUCTION_DATE: 2000 11 2
RASTER_ORDER: LEFT_RIGHT/TOP_BOTTOM
BAND_ORGANIZATION: SINGLE FILE
BAND_CONTENT: BLACK&WHITE
BAND_CONTENT: UNDEFINED
BAND_CONTENT: UNDEFINED
BITS_PER_PIXEL: 8
SAMPLES_AND_LINES: 5597 7683
HORIZONTAL_DATUM: NAD83
HORIZONTAL_COORDINATE_SYSTEM: UTM
COORDINATE_ZONE: 12
HORIZONTAL_UNITS: METERS
HORIZONTAL_RESOLUTION: 1.00000
SECONDARY_HORIZONTAL_DATUM: NAD27
XY_ORIGIN: 661008.00000 5214732.00000
SECONDARY_XY_ORIGIN: 661066.53400 5214517.86700
NATION: US
NATION: "SCIENCE
STATE: MT
NW_QUAD_CORNER_XY: 661363.24500 5214300.71700
NE_QUAD_CORNER_XY: 666109.06200 5214431.53300
SE_QUAD_CORNERY_XY: 666303.17900 5207486.45000
SW_QUAD_CORNER_XY: 661551.81100 5207355.61300
SECONDARY_NW_QUAD_XY: 661368.22500 5214082.22200
SECONDARY_NE_QUAD_XY: 666114.18800 5214213.04200
SECONDARY_SE_QUAD_XY: 666308.30400 5207267.98700
SECONDARY_SW_QUAD_XY: 661556.79000 5207137.14700
RMSE_XY: 1.80000
IMAGE_SOURCE: BLACK AND WHITE FILM
SOURCE_IMAGE_ID: NAPP 9157 046
SOURCE_IMAGE_DATE: 1997 09 05
SOURCE_DEM_DATE: 2000 11 02
AGENCY: WESTERN MAPPING CENTER (WMC)
PRODUCER: UNDEFINED
PRODUCTION_SYSTEM: GIS/MAGIC
COMPRESSION: UNDEFINED
STANDARD_VERSION: 1996 12
METADATA_DATE: 2000 12 14
DATA_FILE_SIZE: 43007348
BYTE_COUNT: 5597
