FILENAME: O4710857.SES.1118043.tif
QUADRANGLE_NAME: FISH DAM
QUADRANT: SE
WEST_LONGITUDE: -108 56 15.00000
EAST_LONGITUDE: -108 52 30.00000
NORTH_LATITUDE: 47 3 45.00000
SOUTH_LATITUDE: 47 0 0.00000
PRODUCTION_DATE: 2000 11 2
RASTER_ORDER: LEFT_RIGHT/TOP_BOTTOM
BAND_ORGANIZATION: SINGLE FILE
BAND_CONTENT: BLACK&WHITE
BAND_CONTENT: UNDEFINED
BAND_CONTENT: UNDEFINED
BITS_PER_PIXEL: 8
SAMPLES_AND_LINES: 5591 7680
HORIZONTAL_DATUM: NAD83
HORIZONTAL_COORDINATE_SYSTEM: UTM
COORDINATE_ZONE: 12
HORIZONTAL_UNITS: METERS
HORIZONTAL_RESOLUTION: 1.00000
SECONDARY_HORIZONTAL_DATUM: NAD27
XY_ORIGIN: 656262.00000 5214601.00000
SECONDARY_XY_ORIGIN: 656320.70000 5214386.87500
NATION: US
NATION: "SCIENCE
STATE: MT
NW_QUAD_CORNER_XY: 656617.41500 5214173.69500
NE_QUAD_CORNER_XY: 661363.24500 5214300.71700
SE_QUAD_CORNERY_XY: 661551.81100 5207355.61300
SW_QUAD_CORNER_XY: 656800.43100 5207228.57300
SECONDARY_NW_QUAD_XY: 656622.24900 5213955.19600
SECONDARY_NE_QUAD_XY: 661368.22500 5214082.22200
SECONDARY_SE_QUAD_XY: 661556.79000 5207137.14700
SECONDARY_SW_QUAD_XY: 656805.26300 5207010.10200
RMSE_XY: 1.20000
IMAGE_SOURCE: BLACK AND WHITE FILM
SOURCE_IMAGE_ID: NAPP 9147 101
SOURCE_IMAGE_DATE: 1996 08 24
SOURCE_DEM_DATE: 1982 00 00
AGENCY: WESTERN MAPPING CENTER (WMC)
PRODUCER: UNDEFINED
PRODUCTION_SYSTEM: GIS/MAGIC
COMPRESSION: UNDEFINED
STANDARD_VERSION: 1996 12
METADATA_DATE: 2000 11 14
DATA_FILE_SIZE: 42944471
BYTE_COUNT: 5591
