FILENAME: O4710856.NES.1118283.tif
QUADRANGLE_NAME: TIN CAN HILL
QUADRANT: NE
WEST_LONGITUDE: -108 3 45.00000
EAST_LONGITUDE: -108 0 0.00000
NORTH_LATITUDE: 47 15 0.00000
SOUTH_LATITUDE: 47 11 15.00000
PRODUCTION_DATE: 2000 10 31
RASTER_ORDER: LEFT_RIGHT/TOP_BOTTOM
BAND_ORGANIZATION: SINGLE FILE
BAND_CONTENT: BLACK&WHITE
BAND_CONTENT: UNDEFINED
BAND_CONTENT: UNDEFINED
BITS_PER_PIXEL: 8
SAMPLES_AND_LINES: 5650 7731
HORIZONTAL_DATUM: NAD83
HORIZONTAL_COORDINATE_SYSTEM: UTM
COORDINATE_ZONE: 12
HORIZONTAL_UNITS: METERS
HORIZONTAL_RESOLUTION: 1.00000
SECONDARY_HORIZONTAL_DATUM: NAD27
XY_ORIGIN: 721921.00000 5237613.00000
SECONDARY_XY_ORIGIN: 721978.71200 5237397.40200
NATION: US
NATION: "SCIENCE
STATE: MT
NW_QUAD_CORNER_XY: 722273.75600 5237132.16600
NE_QUAD_CORNER_XY: 727002.65200 5237312.25600
SE_QUAD_CORNERY_XY: 727269.78800 5230367.32100
SW_QUAD_CORNER_XY: 722535.31800 5230187.20100
SECONDARY_NW_QUAD_XY: 722280.64400 5236913.65500
SECONDARY_NE_QUAD_XY: 727009.68600 5237093.75000
SECONDARY_SE_QUAD_XY: 727276.82200 5230148.84000
SECONDARY_SW_QUAD_XY: 722542.20500 5229968.71500
RMSE_XY: 2.30000
IMAGE_SOURCE: BLACK AND WHITE FILM
SOURCE_IMAGE_ID: NAPP 9142 093
SOURCE_IMAGE_DATE: 1996 08 24
SOURCE_IMAGE_ID: NAPP 9142 094
SOURCE_IMAGE_DATE: 1996 08 24
SOURCE_DEM_DATE: 1986 00 00
AGENCY: WESTERN MAPPING CENTER (WMC)
PRODUCER: UNDEFINED
PRODUCTION_SYSTEM: GIS/MAGIC
COMPRESSION: UNDEFINED
STANDARD_VERSION: 1996 12
METADATA_DATE: 2000 11 14
DATA_FILE_SIZE: 43685800
BYTE_COUNT: 5650
