FILENAME: O4710855.NES.1118270.tif
QUADRANGLE_NAME: CAT CREEK NW
QUADRANT: NE
WEST_LONGITUDE: -108 11 15.00000
EAST_LONGITUDE: -108 7 30.00000
NORTH_LATITUDE: 47 15 0.00000
SOUTH_LATITUDE: 47 11 15.00000
PRODUCTION_DATE: 2000 10 30
RASTER_ORDER: LEFT_RIGHT/TOP_BOTTOM
BAND_ORGANIZATION: SINGLE FILE
BAND_CONTENT: BLACK&WHITE
BAND_CONTENT: UNDEFINED
BAND_CONTENT: UNDEFINED
BITS_PER_PIXEL: 8
SAMPLES_AND_LINES: 5639 7723
HORIZONTAL_DATUM: NAD83
HORIZONTAL_COORDINATE_SYSTEM: UTM
COORDINATE_ZONE: 12
HORIZONTAL_UNITS: METERS
HORIZONTAL_RESOLUTION: 1.00000
SECONDARY_HORIZONTAL_DATUM: NAD27
XY_ORIGIN: 712463.00000 5237256.00000
SECONDARY_XY_ORIGIN: 712520.71200 5237040.41500
NATION: US
NATION: "SCIENCE
STATE: MT
NW_QUAD_CORNER_XY: 712815.90300 5236783.37900
NE_QUAD_CORNER_XY: 717544.83900 5236955.87400
SE_QUAD_CORNERY_XY: 717800.82800 5230010.87900
SW_QUAD_CORNER_XY: 713066.31800 5229838.35400
SECONDARY_NW_QUAD_XY: 712822.49700 5236564.85600
SECONDARY_NE_QUAD_XY: 717551.58000 5236737.35700
SECONDARY_SE_QUAD_XY: 717807.56800 5229792.38700
SECONDARY_SW_QUAD_XY: 713072.91200 5229619.85700
RMSE_XY: 1.80000
IMAGE_SOURCE: BLACK AND WHITE FILM
SOURCE_IMAGE_ID: NAPP 9143 077
SOURCE_IMAGE_DATE: 1996 08 24
SOURCE_DEM_DATE: 1986 00 00
AGENCY: WESTERN MAPPING CENTER (WMC)
PRODUCER: UNDEFINED
PRODUCTION_SYSTEM: GIS/MAGIC
COMPRESSION: UNDEFINED
STANDARD_VERSION: 1996 12
METADATA_DATE: 2000 11 14
DATA_FILE_SIZE: 43555636
BYTE_COUNT: 5639
