FILENAME: O4710855.NWS.1118271.tif
QUADRANGLE_NAME: CAT CREEK NW
QUADRANT: NW
WEST_LONGITUDE: -108 15 0.00000
EAST_LONGITUDE: -108 11 15.00000
NORTH_LATITUDE: 47 15 0.00000
SOUTH_LATITUDE: 47 11 15.00000
PRODUCTION_DATE: 2000 10 30
RASTER_ORDER: LEFT_RIGHT/TOP_BOTTOM
BAND_ORGANIZATION: SINGLE FILE
BAND_CONTENT: BLACK&WHITE
BAND_CONTENT: UNDEFINED
BAND_CONTENT: UNDEFINED
BITS_PER_PIXEL: 8
SAMPLES_AND_LINES: 5634 7720
HORIZONTAL_DATUM: NAD83
HORIZONTAL_COORDINATE_SYSTEM: UTM
COORDINATE_ZONE: 12
HORIZONTAL_UNITS: METERS
HORIZONTAL_RESOLUTION: 1.00000
SECONDARY_HORIZONTAL_DATUM: NAD27
XY_ORIGIN: 707734.00000 5237084.00000
SECONDARY_XY_ORIGIN: 707791.71300 5236868.42100
NATION: US
NATION: "SCIENCE
STATE: MT
NW_QUAD_CORNER_XY: 708086.94600 5236614.68000
NE_QUAD_CORNER_XY: 712815.90300 5236783.37900
SE_QUAD_CORNERY_XY: 713066.31800 5229838.35400
SW_QUAD_CORNER_XY: 708331.78900 5229669.62700
SECONDARY_NW_QUAD_XY: 708093.39400 5236396.15200
SECONDARY_NE_QUAD_XY: 712822.49700 5236564.85600
SECONDARY_SE_QUAD_XY: 713072.91200 5229619.85700
SECONDARY_SW_QUAD_XY: 708338.23600 5229451.12500
RMSE_XY: 2.40000
IMAGE_SOURCE: BLACK AND WHITE FILM
SOURCE_IMAGE_ID: NAPP 9143 194
SOURCE_IMAGE_DATE: 1996 08 24
SOURCE_DEM_DATE: 1986 00 00
AGENCY: WESTERN MAPPING CENTER (WMC)
PRODUCER: UNDEFINED
PRODUCTION_SYSTEM: GIS/MAGIC
COMPRESSION: UNDEFINED
STANDARD_VERSION: 1996 12
METADATA_DATE: 2000 11 14
DATA_FILE_SIZE: 43500114
BYTE_COUNT: 5634
