FILENAME: O4710854.SES.1118264.tif
QUADRANGLE_NAME: DRY BLOOD CREEK EAST
QUADRANT: SE
WEST_LONGITUDE: -108 18 45.00000
EAST_LONGITUDE: -108 15 0.00000
NORTH_LATITUDE: 47 11 15.00000
SOUTH_LATITUDE: 47 7 30.00000
PRODUCTION_DATE: 2000 10 30
RASTER_ORDER: LEFT_RIGHT/TOP_BOTTOM
BAND_ORGANIZATION: SINGLE FILE
BAND_CONTENT: BLACK&WHITE
BAND_CONTENT: UNDEFINED
BAND_CONTENT: UNDEFINED
BITS_PER_PIXEL: 8
SAMPLES_AND_LINES: 5634 7716
HORIZONTAL_DATUM: NAD83
HORIZONTAL_COORDINATE_SYSTEM: UTM
COORDINATE_ZONE: 12
HORIZONTAL_UNITS: METERS
HORIZONTAL_RESOLUTION: 1.00000
SECONDARY_HORIZONTAL_DATUM: NAD27
XY_ORIGIN: 703244.00000 5229970.00000
SECONDARY_XY_ORIGIN: 703301.85000 5229754.72400
NATION: US
NATION: "SCIENCE
STATE: MT
NW_QUAD_CORNER_XY: 703597.24100 5229504.69700
NE_QUAD_CORNER_XY: 708331.78900 5229669.62700
SE_QUAD_CORNERY_XY: 708576.38300 5222724.63300
SW_QUAD_CORNER_XY: 703836.26900 5222559.67600
SECONDARY_NW_QUAD_XY: 703603.54200 5229286.18900
SECONDARY_NE_QUAD_XY: 708338.23600 5229451.12500
SECONDARY_SE_QUAD_XY: 708582.83000 5222506.15700
SECONDARY_SW_QUAD_XY: 703842.56900 5222341.19500
RMSE_XY: 1.40000
IMAGE_SOURCE: BLACK AND WHITE FILM
SOURCE_IMAGE_ID: NAPP 9137 035
SOURCE_IMAGE_DATE: 1996 08 23
SOURCE_DEM_DATE: 1986 00 00
AGENCY: WESTERN MAPPING CENTER (WMC)
PRODUCER: UNDEFINED
PRODUCTION_SYSTEM: GIS/MAGIC
COMPRESSION: UNDEFINED
STANDARD_VERSION: 1996 12
METADATA_DATE: 2000 11 14
DATA_FILE_SIZE: 43477578
BYTE_COUNT: 5634
