FILENAME: O4710853.NES.1118234.tif
QUADRANGLE_NAME: DRY BLOOD CREEK WEST
QUADRANT: NE
WEST_LONGITUDE: -108 26 15.00000
EAST_LONGITUDE: -108 22 30.00000
NORTH_LATITUDE: 47 15 0.00000
SOUTH_LATITUDE: 47 11 15.00000
PRODUCTION_DATE: 2000 10 30
RASTER_ORDER: LEFT_RIGHT/TOP_BOTTOM
BAND_ORGANIZATION: SINGLE FILE
BAND_CONTENT: BLACK&WHITE
BAND_CONTENT: UNDEFINED
BAND_CONTENT: UNDEFINED
BITS_PER_PIXEL: 8
SAMPLES_AND_LINES: 5617 7709
HORIZONTAL_DATUM: NAD83
HORIZONTAL_COORDINATE_SYSTEM: UTM
COORDINATE_ZONE: 12
HORIZONTAL_UNITS: METERS
HORIZONTAL_RESOLUTION: 1.00000
SECONDARY_HORIZONTAL_DATUM: NAD27
XY_ORIGIN: 693547.00000 5236589.00000
SECONDARY_XY_ORIGIN: 693604.96300 5236373.69400
NATION: US
NATION: "SCIENCE
STATE: MT
NW_QUAD_CORNER_XY: 693899.96200 5236131.35800
NE_QUAD_CORNER_XY: 698628.97500 5236288.67000
SE_QUAD_CORNERY_XY: 698862.67500 5229343.56200
SW_QUAD_CORNER_XY: 694128.09100 5229186.22400
SECONDARY_NW_QUAD_XY: 693905.97000 5235912.81500
SECONDARY_NE_QUAD_XY: 698635.13000 5236070.13200
SECONDARY_SE_QUAD_XY: 698868.82900 5229125.05000
SECONDARY_SW_QUAD_XY: 694134.09800 5228967.70700
RMSE_XY: 0.80000
IMAGE_SOURCE: BLACK AND WHITE FILM
SOURCE_IMAGE_ID: NAPP 9137 183
SOURCE_IMAGE_DATE: 1996 08 23
SOURCE_IMAGE_ID: NAPP 9144 010
SOURCE_IMAGE_DATE: 1996 08 25
SOURCE_DEM_DATE: 1975 00 00
AGENCY: WESTERN MAPPING CENTER (WMC)
PRODUCER: UNDEFINED
PRODUCTION_SYSTEM: GIS/MAGIC
COMPRESSION: UNDEFINED
STANDARD_VERSION: 1996 12
METADATA_DATE: 2000 11 14
DATA_FILE_SIZE: 43307070
BYTE_COUNT: 5617
