FILENAME: O4710852.NES.1118077.tif
QUADRANGLE_NAME: WILD HORSE LAKE
QUADRANT: NE
WEST_LONGITUDE: -108 33 45.00000
EAST_LONGITUDE: -108 30 0.00000
NORTH_LATITUDE: 47 15 0.00000
SOUTH_LATITUDE: 47 11 15.00000
PRODUCTION_DATE: 2000 10 27
RASTER_ORDER: LEFT_RIGHT/TOP_BOTTOM
BAND_ORGANIZATION: SINGLE FILE
BAND_CONTENT: BLACK&WHITE
BAND_CONTENT: UNDEFINED
BAND_CONTENT: UNDEFINED
BITS_PER_PIXEL: 8
SAMPLES_AND_LINES: 5607 7701
HORIZONTAL_DATUM: NAD83
HORIZONTAL_COORDINATE_SYSTEM: UTM
COORDINATE_ZONE: 12
HORIZONTAL_UNITS: METERS
HORIZONTAL_RESOLUTION: 1.00000
SECONDARY_HORIZONTAL_DATUM: NAD27
XY_ORIGIN: 684088.00000 5236278.00000
SECONDARY_XY_ORIGIN: 684146.12200 5236062.88300
NATION: US
NATION: "SCIENCE
STATE: MT
NW_QUAD_CORNER_XY: 684441.88100 5235828.11900
NE_QUAD_CORNER_XY: 689170.93000 5235977.84100
SE_QUAD_CORNERY_XY: 689393.48900 5229032.68200
SW_QUAD_CORNER_XY: 684658.87000 5228882.93500
SECONDARY_NW_QUAD_XY: 684447.59600 5235609.56700
SECONDARY_NE_QUAD_XY: 689176.79200 5235759.29400
SECONDARY_SE_QUAD_XY: 689399.35000 5228814.16000
SECONDARY_SW_QUAD_XY: 684664.58400 5228664.40800
RMSE_XY: 0.90000
IMAGE_SOURCE: BLACK AND WHITE FILM
SOURCE_IMAGE_ID: NAPP 9138 077
SOURCE_IMAGE_DATE: 1996 08 23
SOURCE_DEM_DATE: 1982 00 00
AGENCY: WESTERN MAPPING CENTER (WMC)
PRODUCER: UNDEFINED
PRODUCTION_SYSTEM: GIS/MAGIC
COMPRESSION: UNDEFINED
STANDARD_VERSION: 1996 12
METADATA_DATE: 2000 11 14
DATA_FILE_SIZE: 43185114
BYTE_COUNT: 5607
