FILENAME: O4710852.NWS.1118078.tif
QUADRANGLE_NAME: WILD HORSE LAKE
QUADRANT: NW
WEST_LONGITUDE: -108 37 30.00000
EAST_LONGITUDE: -108 33 45.00000
NORTH_LATITUDE: 47 15 0.00000
SOUTH_LATITUDE: 47 11 15.00000
PRODUCTION_DATE: 2000 10 27
RASTER_ORDER: LEFT_RIGHT/TOP_BOTTOM
BAND_ORGANIZATION: SINGLE FILE
BAND_CONTENT: BLACK&WHITE
BAND_CONTENT: UNDEFINED
BAND_CONTENT: UNDEFINED
BITS_PER_PIXEL: 8
SAMPLES_AND_LINES: 5601 7698
HORIZONTAL_DATUM: NAD83
HORIZONTAL_COORDINATE_SYSTEM: UTM
COORDINATE_ZONE: 12
HORIZONTAL_UNITS: METERS
HORIZONTAL_RESOLUTION: 1.00000
SECONDARY_HORIZONTAL_DATUM: NAD27
XY_ORIGIN: 679359.00000 5236129.00000
SECONDARY_XY_ORIGIN: 679417.19600 5235913.98600
NATION: US
NATION: "SCIENCE
STATE: MT
NW_QUAD_CORNER_XY: 679712.81500 5235682.19200
NE_QUAD_CORNER_XY: 684441.88100 5235828.11900
SE_QUAD_CORNERY_XY: 684658.87000 5228882.93500
SW_QUAD_CORNER_XY: 679924.23400 5228736.98300
SECONDARY_NW_QUAD_XY: 679718.38400 5235463.63500
SECONDARY_NE_QUAD_XY: 684447.59600 5235609.56700
SECONDARY_SE_QUAD_XY: 684664.58400 5228664.40800
SECONDARY_SW_QUAD_XY: 679929.80200 5228518.45200
RMSE_XY: 0.80000
IMAGE_SOURCE: BLACK AND WHITE FILM
SOURCE_IMAGE_ID: NAPP 9138 194
SOURCE_IMAGE_DATE: 1996 08 23
SOURCE_DEM_DATE: 1982 00 00
AGENCY: WESTERN MAPPING CENTER (WMC)
PRODUCER: UNDEFINED
PRODUCTION_SYSTEM: GIS/MAGIC
COMPRESSION: UNDEFINED
STANDARD_VERSION: 1996 12
METADATA_DATE: 2000 11 14
DATA_FILE_SIZE: 43122099
BYTE_COUNT: 5601
