FILENAME: O4710851.SES.1118071.tif
QUADRANGLE_NAME: TEIGEN NW
QUADRANT: SE
WEST_LONGITUDE: -108 41 15.00000
EAST_LONGITUDE: -108 37 30.00000
NORTH_LATITUDE: 47 11 15.00000
SOUTH_LATITUDE: 47 7 30.00000
PRODUCTION_DATE: 2000 11 2
RASTER_ORDER: LEFT_RIGHT/TOP_BOTTOM
BAND_ORGANIZATION: SINGLE FILE
BAND_CONTENT: BLACK&WHITE
BAND_CONTENT: UNDEFINED
BAND_CONTENT: UNDEFINED
BITS_PER_PIXEL: 8
SAMPLES_AND_LINES: 5602 7694
HORIZONTAL_DATUM: NAD83
HORIZONTAL_COORDINATE_SYSTEM: UTM
COORDINATE_ZONE: 12
HORIZONTAL_UNITS: METERS
HORIZONTAL_RESOLUTION: 1.00000
SECONDARY_HORIZONTAL_DATUM: NAD27
XY_ORIGIN: 674835.00000 5229037.00000
SECONDARY_XY_ORIGIN: 674893.22900 5228822.31000
NATION: US
NATION: "SCIENCE
STATE: MT
NW_QUAD_CORNER_XY: 675189.58200 5228594.82600
NE_QUAD_CORNER_XY: 679924.23400 5228736.98300
SE_QUAD_CORNERY_XY: 680135.43800 5221791.83700
SW_QUAD_CORNER_XY: 675395.22200 5221649.65700
SECONDARY_NW_QUAD_XY: 675195.00300 5228376.29000
SECONDARY_NE_QUAD_XY: 679929.80200 5228518.45200
SECONDARY_SE_QUAD_XY: 680141.00400 5221573.33200
SECONDARY_SW_QUAD_XY: 675400.64300 5221431.14700
RMSE_XY: 1.40000
IMAGE_SOURCE: BLACK AND WHITE FILM
SOURCE_IMAGE_ID: NAPP 9140 044
SOURCE_IMAGE_DATE: 1996 08 23
SOURCE_DEM_DATE: 1982 00 00
AGENCY: WESTERN MAPPING CENTER (WMC)
PRODUCER: UNDEFINED
PRODUCTION_SYSTEM: GIS/MAGIC
COMPRESSION: UNDEFINED
STANDARD_VERSION: 1996 12
METADATA_DATE: 2000 11 14
DATA_FILE_SIZE: 43107390
BYTE_COUNT: 5602
