FILENAME: O4710850.SWS.1118092.tif
QUADRANGLE_NAME: GRASS RANGE NE
QUADRANT: SW
WEST_LONGITUDE: -108 52 30.00000
EAST_LONGITUDE: -108 48 45.00000
NORTH_LATITUDE: 47 11 15.00000
SOUTH_LATITUDE: 47 7 30.00000
PRODUCTION_DATE: 2000 11 2
RASTER_ORDER: LEFT_RIGHT/TOP_BOTTOM
BAND_ORGANIZATION: SINGLE FILE
BAND_CONTENT: BLACK&WHITE
BAND_CONTENT: UNDEFINED
BAND_CONTENT: UNDEFINED
BITS_PER_PIXEL: 8
SAMPLES_AND_LINES: 5586 7683
HORIZONTAL_DATUM: NAD83
HORIZONTAL_COORDINATE_SYSTEM: UTM
COORDINATE_ZONE: 12
HORIZONTAL_UNITS: METERS
HORIZONTAL_RESOLUTION: 1.00000
SECONDARY_HORIZONTAL_DATUM: NAD27
XY_ORIGIN: 660630.00000 5228622.00000
SECONDARY_XY_ORIGIN: 660688.55400 5228407.43200
NATION: US
NATION: "SCIENCE
STATE: MT
NW_QUAD_CORNER_XY: 660985.53400 5228191.12000
NE_QUAD_CORNER_XY: 665720.23200 5228321.89500
SE_QUAD_CORNERY_XY: 665914.74600 5221376.68100
SW_QUAD_CORNER_XY: 661174.48600 5221245.88600
SECONDARY_NW_QUAD_XY: 660990.51500 5227972.57200
SECONDARY_NE_QUAD_XY: 665725.36000 5228103.35100
SECONDARY_SE_QUAD_XY: 665919.87300 5221158.16400
SECONDARY_SW_QUAD_XY: 661179.46700 5221027.36400
RMSE_XY: 1.10000
IMAGE_SOURCE: BLACK AND WHITE FILM
SOURCE_IMAGE_ID: NAPP 9157 050
SOURCE_IMAGE_DATE: 1997 09 05
SOURCE_DEM_DATE: 2000 11 02
AGENCY: WESTERN MAPPING CENTER (WMC)
PRODUCER: UNDEFINED
PRODUCTION_SYSTEM: GIS/MAGIC
COMPRESSION: UNDEFINED
STANDARD_VERSION: 1996 12
METADATA_DATE: 2000 12 14
DATA_FILE_SIZE: 42922824
BYTE_COUNT: 5586
