FILENAME: O4710849.NES.1118085.tif
QUADRANGLE_NAME: GRASS RANGE NW
QUADRANT: NE
WEST_LONGITUDE: -108 56 15.00000
EAST_LONGITUDE: -108 52 30.00000
NORTH_LATITUDE: 47 15 0.00000
SOUTH_LATITUDE: 47 11 15.00000
PRODUCTION_DATE: 2000 11 2
RASTER_ORDER: LEFT_RIGHT/TOP_BOTTOM
BAND_ORGANIZATION: SINGLE FILE
BAND_CONTENT: BLACK&WHITE
BAND_CONTENT: UNDEFINED
BAND_CONTENT: UNDEFINED
BITS_PER_PIXEL: 8
SAMPLES_AND_LINES: 5575 7679
HORIZONTAL_DATUM: NAD83
HORIZONTAL_COORDINATE_SYSTEM: UTM
COORDINATE_ZONE: 12
HORIZONTAL_UNITS: METERS
HORIZONTAL_RESOLUTION: 1.00000
SECONDARY_HORIZONTAL_DATUM: NAD27
XY_ORIGIN: 655712.00000 5235437.00000
SECONDARY_XY_ORIGIN: 655770.66800 5235222.23000
NATION: US
NATION: "SCIENCE
STATE: MT
NW_QUAD_CORNER_XY: 656067.24400 5235009.46100
NE_QUAD_CORNER_XY: 660796.38900 5235136.42100
SE_QUAD_CORNERY_XY: 660985.53400 5228191.12000
SW_QUAD_CORNER_XY: 656250.82100 5228064.13900
SECONDARY_NW_QUAD_XY: 656072.07900 5234790.88300
SECONDARY_NE_QUAD_XY: 660801.37100 5234917.84700
SECONDARY_SE_QUAD_XY: 660990.51500 5227972.57200
SECONDARY_SW_QUAD_XY: 656255.65600 5227845.58700
RMSE_XY: 1.00000
IMAGE_SOURCE: BLACK AND WHITE FILM
SOURCE_IMAGE_ID: NAPP 9147 107
SOURCE_IMAGE_DATE: 1996 08 24
SOURCE_IMAGE_ID: NAPP 9157 053
SOURCE_IMAGE_DATE: 1997 09 05
SOURCE_DEM_DATE: 2000 11 02
AGENCY: WESTERN MAPPING CENTER (WMC)
PRODUCER: UNDEFINED
PRODUCTION_SYSTEM: GIS/MAGIC
COMPRESSION: UNDEFINED
STANDARD_VERSION: 1996 12
METADATA_DATE: 2000 12 14
DATA_FILE_SIZE: 42816000
BYTE_COUNT: 5575
