FILENAME: O4710849.SES.1118087.tif
QUADRANGLE_NAME: GRASS RANGE NW
QUADRANT: SE
WEST_LONGITUDE: -108 56 15.00000
EAST_LONGITUDE: -108 52 30.00000
NORTH_LATITUDE: 47 11 15.00000
SOUTH_LATITUDE: 47 7 30.00000
PRODUCTION_DATE: 2000 11 2
RASTER_ORDER: LEFT_RIGHT/TOP_BOTTOM
BAND_ORGANIZATION: SINGLE FILE
BAND_CONTENT: BLACK&WHITE
BAND_CONTENT: UNDEFINED
BAND_CONTENT: UNDEFINED
BITS_PER_PIXEL: 8
SAMPLES_AND_LINES: 5581 7680
HORIZONTAL_DATUM: NAD83
HORIZONTAL_COORDINATE_SYSTEM: UTM
COORDINATE_ZONE: 12
HORIZONTAL_UNITS: METERS
HORIZONTAL_RESOLUTION: 1.00000
SECONDARY_HORIZONTAL_DATUM: NAD27
XY_ORIGIN: 655895.00000 5228492.00000
SECONDARY_XY_ORIGIN: 655953.67900 5228277.44500
NATION: US
NATION: "SCIENCE
STATE: MT
NW_QUAD_CORNER_XY: 656250.82100 5228064.13900
NE_QUAD_CORNER_XY: 660985.53400 5228191.12000
SE_QUAD_CORNERY_XY: 661174.48600 5221245.88600
SW_QUAD_CORNER_XY: 656434.21200 5221118.88400
SECONDARY_NW_QUAD_XY: 656255.65600 5227845.58700
SECONDARY_NE_QUAD_XY: 660990.51500 5227972.57200
SECONDARY_SE_QUAD_XY: 661179.46700 5221027.36400
SECONDARY_SW_QUAD_XY: 656439.04600 5220900.35800
RMSE_XY: 1.20000
IMAGE_SOURCE: BLACK AND WHITE FILM
SOURCE_IMAGE_ID: NAPP 9147 105
SOURCE_IMAGE_DATE: 1996 08 24
SOURCE_DEM_DATE: 2000 11 02
AGENCY: WESTERN MAPPING CENTER (WMC)
PRODUCER: UNDEFINED
PRODUCTION_SYSTEM: GIS/MAGIC
COMPRESSION: UNDEFINED
STANDARD_VERSION: 1996 12
METADATA_DATE: 2000 12 14
DATA_FILE_SIZE: 42867661
BYTE_COUNT: 5581
