FILENAME: O4710849.SWS.1118088.tif
QUADRANGLE_NAME: GRASS RANGE NW
QUADRANT: SW
WEST_LONGITUDE: -109 0 0.00000
EAST_LONGITUDE: -108 56 15.00000
NORTH_LATITUDE: 47 11 15.00000
SOUTH_LATITUDE: 47 7 30.00000
PRODUCTION_DATE: 2000 11 2
RASTER_ORDER: LEFT_RIGHT/TOP_BOTTOM
BAND_ORGANIZATION: SINGLE FILE
BAND_CONTENT: BLACK&WHITE
BAND_CONTENT: UNDEFINED
BAND_CONTENT: UNDEFINED
BITS_PER_PIXEL: 8
SAMPLES_AND_LINES: 5576 7676
HORIZONTAL_DATUM: NAD83
HORIZONTAL_COORDINATE_SYSTEM: UTM
COORDINATE_ZONE: 12
HORIZONTAL_UNITS: METERS
HORIZONTAL_RESOLUTION: 1.00000
SECONDARY_HORIZONTAL_DATUM: NAD27
XY_ORIGIN: 651160.00000 5228365.00000
SECONDARY_XY_ORIGIN: 651218.80300 5228150.45700
NATION: US
NATION: "SCIENCE
STATE: MT
NW_QUAD_CORNER_XY: 651516.09500 5227940.95200
NE_QUAD_CORNER_XY: 656250.82100 5228064.13900
SE_QUAD_CORNERY_XY: 656434.21200 5221118.88400
SW_QUAD_CORNER_XY: 651693.92400 5220995.67700
SECONDARY_NW_QUAD_XY: 651520.78300 5227722.39600
SECONDARY_NE_QUAD_XY: 656255.65600 5227845.58700
SECONDARY_SE_QUAD_XY: 656439.04600 5220900.35800
SECONDARY_SW_QUAD_XY: 651698.61200 5220777.14700
RMSE_XY: 0.90000
IMAGE_SOURCE: BLACK AND WHITE FILM
SOURCE_IMAGE_ID: NAPP 9147 226
SOURCE_IMAGE_DATE: 1996 08 24
SOURCE_DEM_DATE: 2000 11 02
AGENCY: WESTERN MAPPING CENTER (WMC)
PRODUCER: UNDEFINED
PRODUCTION_SYSTEM: GIS/MAGIC
COMPRESSION: UNDEFINED
STANDARD_VERSION: 1996 12
METADATA_DATE: 2000 12 14
DATA_FILE_SIZE: 42806952
BYTE_COUNT: 5576
