FILENAME: O4710848.NWS.1118296.tif
QUADRANGLE_NAME: KIRKENDAL FLAT
QUADRANT: NW
WEST_LONGITUDE: -108 7 30.00000
EAST_LONGITUDE: -108 3 45.00000
NORTH_LATITUDE: 47 22 30.00000
SOUTH_LATITUDE: 47 18 45.00000
PRODUCTION_DATE: 2000 10 31
RASTER_ORDER: LEFT_RIGHT/TOP_BOTTOM
BAND_ORGANIZATION: SINGLE FILE
BAND_CONTENT: BLACK&WHITE
BAND_CONTENT: UNDEFINED
BAND_CONTENT: UNDEFINED
BITS_PER_PIXEL: 8
SAMPLES_AND_LINES: 5633 7727
HORIZONTAL_DATUM: NAD83
HORIZONTAL_COORDINATE_SYSTEM: UTM
COORDINATE_ZONE: 12
HORIZONTAL_UNITS: METERS
HORIZONTAL_RESOLUTION: 1.00000
SECONDARY_HORIZONTAL_DATUM: NAD27
XY_ORIGIN: 716680.00000 5251323.00000
SECONDARY_XY_ORIGIN: 716737.63900 5251107.02400
NATION: US
NATION: "SCIENCE
STATE: MT
NW_QUAD_CORNER_XY: 717032.08100 5250846.03500
NE_QUAD_CORNER_XY: 721749.83300 5251022.26500
SE_QUAD_CORNERY_XY: 722011.92700 5244077.18800
SW_QUAD_CORNER_XY: 717288.59000 5243900.92600
SECONDARY_NW_QUAD_XY: 717038.82400 5250627.47000
SECONDARY_NE_QUAD_XY: 721756.72300 5250803.70600
SECONDARY_SE_QUAD_XY: 722018.81600 5243858.65200
SECONDARY_SW_QUAD_XY: 717295.33200 5243682.38500
RMSE_XY: 1.00000
IMAGE_SOURCE: BLACK AND WHITE FILM
SOURCE_IMAGE_ID: NAPP 9142 206
SOURCE_IMAGE_DATE: 1996 08 24
SOURCE_IMAGE_ID: NAPP 9142 207
SOURCE_IMAGE_DATE: 1996 08 24
SOURCE_DEM_DATE: 1978 00 00
AGENCY: WESTERN MAPPING CENTER (WMC)
PRODUCER: UNDEFINED
PRODUCTION_SYSTEM: GIS/MAGIC
COMPRESSION: UNDEFINED
STANDARD_VERSION: 1996 12
METADATA_DATE: 2000 11 14
DATA_FILE_SIZE: 43531824
BYTE_COUNT: 5633
