FILENAME: O4710848.SWS.1118298.tif
QUADRANGLE_NAME: KIRKENDAL FLAT
QUADRANT: SW
WEST_LONGITUDE: -108 7 30.00000
EAST_LONGITUDE: -108 3 45.00000
NORTH_LATITUDE: 47 18 45.00000
SOUTH_LATITUDE: 47 15 0.00000
PRODUCTION_DATE: 2000 10 31
RASTER_ORDER: LEFT_RIGHT/TOP_BOTTOM
BAND_ORGANIZATION: SINGLE FILE
BAND_CONTENT: BLACK&WHITE
BAND_CONTENT: UNDEFINED
BAND_CONTENT: UNDEFINED
BITS_PER_PIXEL: 8
SAMPLES_AND_LINES: 5639 7728
HORIZONTAL_DATUM: NAD83
HORIZONTAL_COORDINATE_SYSTEM: UTM
COORDINATE_ZONE: 12
HORIZONTAL_UNITS: METERS
HORIZONTAL_RESOLUTION: 1.00000
SECONDARY_HORIZONTAL_DATUM: NAD27
XY_ORIGIN: 716936.00000 5244378.00000
SECONDARY_XY_ORIGIN: 716993.67800 5244162.21600
NATION: US
NATION: "SCIENCE
STATE: MT
NW_QUAD_CORNER_XY: 717288.59000 5243900.92600
NE_QUAD_CORNER_XY: 722011.92700 5244077.18800
SE_QUAD_CORNERY_XY: 722273.75600 5237132.16600
SW_QUAD_CORNER_XY: 717544.83900 5236955.87400
SECONDARY_NW_QUAD_XY: 717295.33200 5243682.38500
SECONDARY_NE_QUAD_XY: 722018.81600 5243858.65200
SECONDARY_SE_QUAD_XY: 722280.64400 5236913.65500
SECONDARY_SW_QUAD_XY: 717551.58000 5236737.35700
RMSE_XY: 0.90000
IMAGE_SOURCE: BLACK AND WHITE FILM
SOURCE_IMAGE_ID: NAPP 9142 208
SOURCE_IMAGE_DATE: 1996 08 24
SOURCE_IMAGE_ID: NAPP 9142 209
SOURCE_IMAGE_DATE: 1996 08 24
SOURCE_DEM_DATE: 1978 00 00
AGENCY: WESTERN MAPPING CENTER (WMC)
PRODUCER: UNDEFINED
PRODUCTION_SYSTEM: GIS/MAGIC
COMPRESSION: UNDEFINED
STANDARD_VERSION: 1996 12
METADATA_DATE: 2000 11 14
DATA_FILE_SIZE: 43583831
BYTE_COUNT: 5639
