FILENAME: O4710847.NES.1118266.tif
QUADRANGLE_NAME: DAVIS SPRING
QUADRANT: NE
WEST_LONGITUDE: -108 11 15.00000
EAST_LONGITUDE: -108 7 30.00000
NORTH_LATITUDE: 47 22 30.00000
SOUTH_LATITUDE: 47 18 45.00000
PRODUCTION_DATE: 2000 10 30
RASTER_ORDER: LEFT_RIGHT/TOP_BOTTOM
BAND_ORGANIZATION: SINGLE FILE
BAND_CONTENT: BLACK&WHITE
BAND_CONTENT: UNDEFINED
BAND_CONTENT: UNDEFINED
BITS_PER_PIXEL: 8
SAMPLES_AND_LINES: 5628 7724
HORIZONTAL_DATUM: NAD83
HORIZONTAL_COORDINATE_SYSTEM: UTM
COORDINATE_ZONE: 12
HORIZONTAL_UNITS: METERS
HORIZONTAL_RESOLUTION: 1.00000
SECONDARY_HORIZONTAL_DATUM: NAD27
XY_ORIGIN: 711962.00000 5251147.00000
SECONDARY_XY_ORIGIN: 712019.61800 5250931.04100
NATION: US
NATION: "SCIENCE
STATE: MT
NW_QUAD_CORNER_XY: 712314.30700 5250673.60000
NE_QUAD_CORNER_XY: 717032.08100 5250846.03500
SE_QUAD_CORNERY_XY: 717288.59000 5243900.92600
SW_QUAD_CORNER_XY: 712565.23200 5243728.46000
SECONDARY_NW_QUAD_XY: 712320.90300 5250455.03000
SECONDARY_NE_QUAD_XY: 717038.82400 5250627.47000
SECONDARY_SE_QUAD_XY: 717295.33200 5243682.38500
SECONDARY_SW_QUAD_XY: 712571.82700 5243509.91400
RMSE_XY: 1.10000
IMAGE_SOURCE: BLACK AND WHITE FILM
SOURCE_IMAGE_ID: NAPP 9143 081
SOURCE_IMAGE_DATE: 1996 08 24
SOURCE_DEM_DATE: 1978 00 00
AGENCY: WESTERN MAPPING CENTER (WMC)
PRODUCER: UNDEFINED
PRODUCTION_SYSTEM: GIS/MAGIC
COMPRESSION: UNDEFINED
STANDARD_VERSION: 1996 12
METADATA_DATE: 2000 11 14
DATA_FILE_SIZE: 43476300
BYTE_COUNT: 5628
