FILENAME: O4710847.SWS.1118269.tif
QUADRANGLE_NAME: DAVIS SPRING
QUADRANT: SW
WEST_LONGITUDE: -108 15 0.00000
EAST_LONGITUDE: -108 11 15.00000
NORTH_LATITUDE: 47 18 45.00000
SOUTH_LATITUDE: 47 15 0.00000
PRODUCTION_DATE: 2000 10 30
RASTER_ORDER: LEFT_RIGHT/TOP_BOTTOM
BAND_ORGANIZATION: SINGLE FILE
BAND_CONTENT: BLACK&WHITE
BAND_CONTENT: UNDEFINED
BAND_CONTENT: UNDEFINED
BITS_PER_PIXEL: 8
SAMPLES_AND_LINES: 5628 7720
HORIZONTAL_DATUM: NAD83
HORIZONTAL_COORDINATE_SYSTEM: UTM
COORDINATE_ZONE: 12
HORIZONTAL_UNITS: METERS
HORIZONTAL_RESOLUTION: 1.00000
SECONDARY_HORIZONTAL_DATUM: NAD27
XY_ORIGIN: 707489.00000 5244029.00000
SECONDARY_XY_ORIGIN: 707546.65700 5243813.24000
NATION: US
NATION: "SCIENCE
STATE: MT
NW_QUAD_CORNER_XY: 707841.85300 5243559.79100
NE_QUAD_CORNER_XY: 712565.23200 5243728.46000
SE_QUAD_CORNERY_XY: 712815.90300 5236783.37900
SW_QUAD_CORNER_XY: 708086.94600 5236614.68000
SECONDARY_NW_QUAD_XY: 707848.30200 5243341.23900
SECONDARY_NE_QUAD_XY: 712571.82700 5243509.91400
SECONDARY_SE_QUAD_XY: 712822.49700 5236564.85600
SECONDARY_SW_QUAD_XY: 708093.39400 5236396.15200
RMSE_XY: 1.30000
IMAGE_SOURCE: BLACK AND WHITE FILM
SOURCE_IMAGE_ID: NAPP 9143 192
SOURCE_IMAGE_DATE: 1996 08 24
SOURCE_DEM_DATE: 1978 00 00
AGENCY: WESTERN MAPPING CENTER (WMC)
PRODUCER: UNDEFINED
PRODUCTION_SYSTEM: GIS/MAGIC
COMPRESSION: UNDEFINED
STANDARD_VERSION: 1996 12
METADATA_DATE: 2000 11 14
DATA_FILE_SIZE: 43453788
BYTE_COUNT: 5628
