FILENAME: O4710846.NES.1118258.tif
QUADRANGLE_NAME: BROWN SPRING
QUADRANT: NE
WEST_LONGITUDE: -108 18 45.00000
EAST_LONGITUDE: -108 15 0.00000
NORTH_LATITUDE: 47 22 30.00000
SOUTH_LATITUDE: 47 18 45.00000
PRODUCTION_DATE: 2000 10 30
RASTER_ORDER: LEFT_RIGHT/TOP_BOTTOM
BAND_ORGANIZATION: SINGLE FILE
BAND_CONTENT: BLACK&WHITE
BAND_CONTENT: UNDEFINED
BAND_CONTENT: UNDEFINED
BITS_PER_PIXEL: 8
SAMPLES_AND_LINES: 5617 7715
HORIZONTAL_DATUM: NAD83
HORIZONTAL_COORDINATE_SYSTEM: UTM
COORDINATE_ZONE: 12
HORIZONTAL_UNITS: METERS
HORIZONTAL_RESOLUTION: 1.00000
SECONDARY_HORIZONTAL_DATUM: NAD27
XY_ORIGIN: 702526.00000 5250805.00000
SECONDARY_XY_ORIGIN: 702583.71800 5250589.14600
NATION: US
NATION: "SCIENCE
STATE: MT
NW_QUAD_CORNER_XY: 702878.69700 5250340.11500
NE_QUAD_CORNER_XY: 707596.51200 5250504.96000
SE_QUAD_CORNERY_XY: 707841.85300 5243559.79100
SW_QUAD_CORNER_XY: 703118.45500 5243394.91600
SECONDARY_NW_QUAD_XY: 702885.00000 5250121.53500
SECONDARY_NE_QUAD_XY: 707602.96200 5250286.38500
SECONDARY_SE_QUAD_XY: 707848.30200 5243341.23900
SECONDARY_SW_QUAD_XY: 703124.75700 5243176.35900
RMSE_XY: 1.10000
IMAGE_SOURCE: BLACK AND WHITE FILM
SOURCE_IMAGE_ID: NAPP 9143 201
SOURCE_IMAGE_DATE: 1996 08 24
SOURCE_DEM_DATE: 1978 00 00
AGENCY: WESTERN MAPPING CENTER (WMC)
PRODUCER: UNDEFINED
PRODUCTION_SYSTEM: GIS/MAGIC
COMPRESSION: UNDEFINED
STANDARD_VERSION: 1996 12
METADATA_DATE: 2000 11 14
DATA_FILE_SIZE: 43340772
BYTE_COUNT: 5617
