FILENAME: O4710846.NWS.1118259.tif
QUADRANGLE_NAME: BROWN SPRING
QUADRANT: NW
WEST_LONGITUDE: -108 22 30.00000
EAST_LONGITUDE: -108 18 45.00000
NORTH_LATITUDE: 47 22 30.00000
SOUTH_LATITUDE: 47 18 45.00000
PRODUCTION_DATE: 2000 10 30
RASTER_ORDER: LEFT_RIGHT/TOP_BOTTOM
BAND_ORGANIZATION: SINGLE FILE
BAND_CONTENT: BLACK&WHITE
BAND_CONTENT: UNDEFINED
BAND_CONTENT: UNDEFINED
BITS_PER_PIXEL: 8
SAMPLES_AND_LINES: 5612 7713
HORIZONTAL_DATUM: NAD83
HORIZONTAL_COORDINATE_SYSTEM: UTM
COORDINATE_ZONE: 12
HORIZONTAL_UNITS: METERS
HORIZONTAL_RESOLUTION: 1.00000
SECONDARY_HORIZONTAL_DATUM: NAD27
XY_ORIGIN: 697808.00000 5250641.00000
SECONDARY_XY_ORIGIN: 697865.83900 5250425.22600
NATION: US
NATION: "SCIENCE
STATE: MT
NW_QUAD_CORNER_XY: 698160.86200 5250179.06500
NE_QUAD_CORNER_XY: 702878.69700 5250340.11500
SE_QUAD_CORNERY_XY: 703118.45500 5243394.91600
SW_QUAD_CORNER_XY: 698395.03700 5243233.83700
SECONDARY_NW_QUAD_XY: 698167.01800 5249960.47900
SECONDARY_NE_QUAD_XY: 702885.00000 5250121.53500
SECONDARY_SE_QUAD_XY: 703124.75700 5243176.35900
SECONDARY_SW_QUAD_XY: 698401.19300 5243015.27500
RMSE_XY: 1.50000
IMAGE_SOURCE: BLACK AND WHITE FILM
SOURCE_IMAGE_ID: NAPP 9143 276
SOURCE_IMAGE_DATE: 1996 08 24
SOURCE_DEM_DATE: 1978 00 00
AGENCY: WESTERN MAPPING CENTER (WMC)
PRODUCER: UNDEFINED
PRODUCTION_SYSTEM: GIS/MAGIC
COMPRESSION: UNDEFINED
STANDARD_VERSION: 1996 12
METADATA_DATE: 2000 11 14
DATA_FILE_SIZE: 43290968
BYTE_COUNT: 5612
