FILENAME: O4710846.SES.1118260.tif
QUADRANGLE_NAME: BROWN SPRING
QUADRANT: SE
WEST_LONGITUDE: -108 18 45.00000
EAST_LONGITUDE: -108 15 0.00000
NORTH_LATITUDE: 47 18 45.00000
SOUTH_LATITUDE: 47 15 0.00000
PRODUCTION_DATE: 2000 10 30
RASTER_ORDER: LEFT_RIGHT/TOP_BOTTOM
BAND_ORGANIZATION: SINGLE FILE
BAND_CONTENT: BLACK&WHITE
BAND_CONTENT: UNDEFINED
BAND_CONTENT: UNDEFINED
BITS_PER_PIXEL: 8
SAMPLES_AND_LINES: 5623 7716
HORIZONTAL_DATUM: NAD83
HORIZONTAL_COORDINATE_SYSTEM: UTM
COORDINATE_ZONE: 12
HORIZONTAL_UNITS: METERS
HORIZONTAL_RESOLUTION: 1.00000
SECONDARY_HORIZONTAL_DATUM: NAD27
XY_ORIGIN: 702765.00000 5243860.00000
SECONDARY_XY_ORIGIN: 702822.75700 5243644.33200
NATION: US
NATION: "SCIENCE
STATE: MT
NW_QUAD_CORNER_XY: 703118.45500 5243394.91600
NE_QUAD_CORNER_XY: 707841.85300 5243559.79100
SE_QUAD_CORNERY_XY: 708086.94600 5236614.68000
SW_QUAD_CORNER_XY: 703357.97000 5236449.77700
SECONDARY_NW_QUAD_XY: 703124.75700 5243176.35900
SECONDARY_NE_QUAD_XY: 707848.30200 5243341.23900
SECONDARY_SE_QUAD_XY: 708093.39400 5236396.15200
SECONDARY_SW_QUAD_XY: 703364.27100 5236231.24400
RMSE_XY: 1.00000
IMAGE_SOURCE: BLACK AND WHITE FILM
SOURCE_IMAGE_ID: NAPP 9143 199
SOURCE_IMAGE_DATE: 1996 08 24
SOURCE_IMAGE_ID: NAPP 9143 198
SOURCE_IMAGE_DATE: 1996 08 24
SOURCE_DEM_DATE: 1978 00 00
AGENCY: WESTERN MAPPING CENTER (WMC)
PRODUCER: UNDEFINED
PRODUCTION_SYSTEM: GIS/MAGIC
COMPRESSION: UNDEFINED
STANDARD_VERSION: 1996 12
METADATA_DATE: 2000 11 14
DATA_FILE_SIZE: 43392691
BYTE_COUNT: 5623
