FILENAME: O4710845.NES.1118246.tif
QUADRANGLE_NAME: VALENTINE
QUADRANT: NE
WEST_LONGITUDE: -108 26 15.00000
EAST_LONGITUDE: -108 22 30.00000
NORTH_LATITUDE: 47 22 30.00000
SOUTH_LATITUDE: 47 18 45.00000
PRODUCTION_DATE: 2000 10 30
RASTER_ORDER: LEFT_RIGHT/TOP_BOTTOM
BAND_ORGANIZATION: SINGLE FILE
BAND_CONTENT: BLACK&WHITE
BAND_CONTENT: UNDEFINED
BAND_CONTENT: UNDEFINED
BITS_PER_PIXEL: 8
SAMPLES_AND_LINES: 5607 7709
HORIZONTAL_DATUM: NAD83
HORIZONTAL_COORDINATE_SYSTEM: UTM
COORDINATE_ZONE: 12
HORIZONTAL_UNITS: METERS
HORIZONTAL_RESOLUTION: 1.00000
SECONDARY_HORIZONTAL_DATUM: NAD27
XY_ORIGIN: 693090.00000 5250480.00000
SECONDARY_XY_ORIGIN: 693147.96100 5250264.30600
NATION: US
NATION: "SCIENCE
STATE: MT
NW_QUAD_CORNER_XY: 693443.00700 5250021.80800
NE_QUAD_CORNER_XY: 698160.86200 5250179.06500
SE_QUAD_CORNERY_XY: 698395.03700 5243233.83700
SW_QUAD_CORNER_XY: 693671.60000 5243076.55300
SECONDARY_NW_QUAD_XY: 693449.01700 5249803.21700
SECONDARY_NE_QUAD_XY: 698167.01800 5249960.47900
SECONDARY_SE_QUAD_XY: 698401.19300 5243015.27500
SECONDARY_SW_QUAD_XY: 693677.60900 5242857.98500
RMSE_XY: 1.40000
IMAGE_SOURCE: BLACK AND WHITE FILM
SOURCE_IMAGE_ID: NAPP 9144 013
SOURCE_IMAGE_DATE: 1996 08 25
SOURCE_IMAGE_ID: NAPP 9144 014
SOURCE_IMAGE_DATE: 1996 08 25
SOURCE_DEM_DATE: 1979 00 00
AGENCY: WESTERN MAPPING CENTER (WMC)
PRODUCER: UNDEFINED
PRODUCTION_SYSTEM: GIS/MAGIC
COMPRESSION: UNDEFINED
STANDARD_VERSION: 1996 12
METADATA_DATE: 2000 11 14
DATA_FILE_SIZE: 43229970
BYTE_COUNT: 5607
