FILENAME: O4710845.NWS.1118247.tif
QUADRANGLE_NAME: VALENTINE
QUADRANT: NW
WEST_LONGITUDE: -108 30 0.00000
EAST_LONGITUDE: -108 26 15.00000
NORTH_LATITUDE: 47 22 30.00000
SOUTH_LATITUDE: 47 18 45.00000
PRODUCTION_DATE: 2000 10 30
RASTER_ORDER: LEFT_RIGHT/TOP_BOTTOM
BAND_ORGANIZATION: SINGLE FILE
BAND_CONTENT: BLACK&WHITE
BAND_CONTENT: UNDEFINED
BAND_CONTENT: UNDEFINED
BITS_PER_PIXEL: 8
SAMPLES_AND_LINES: 5602 7705
HORIZONTAL_DATUM: NAD83
HORIZONTAL_COORDINATE_SYSTEM: UTM
COORDINATE_ZONE: 12
HORIZONTAL_UNITS: METERS
HORIZONTAL_RESOLUTION: 1.00000
SECONDARY_HORIZONTAL_DATUM: NAD27
XY_ORIGIN: 688371.00000 5250322.00000
SECONDARY_XY_ORIGIN: 688429.08200 5250106.38500
NATION: US
NATION: "SCIENCE
STATE: MT
NW_QUAD_CORNER_XY: 688725.13400 5249868.34500
NE_QUAD_CORNER_XY: 693443.00700 5250021.80800
SE_QUAD_CORNERY_XY: 693671.60000 5243076.55300
SW_QUAD_CORNER_XY: 688948.14500 5242923.06200
SECONDARY_NW_QUAD_XY: 688730.99700 5249649.75000
SECONDARY_NE_QUAD_XY: 693449.01700 5249803.21700
SECONDARY_SE_QUAD_XY: 693677.60900 5242857.98500
SECONDARY_SW_QUAD_XY: 688954.00800 5242704.49100
RMSE_XY: 1.00000
IMAGE_SOURCE: BLACK AND WHITE FILM
SOURCE_IMAGE_ID: NAPP 9144 158
SOURCE_IMAGE_DATE: 1996 08 25
SOURCE_DEM_DATE: 1979 00 00
AGENCY: WESTERN MAPPING CENTER (WMC)
PRODUCER: UNDEFINED
PRODUCTION_SYSTEM: GIS/MAGIC
COMPRESSION: UNDEFINED
STANDARD_VERSION: 1996 12
METADATA_DATE: 2000 11 14
DATA_FILE_SIZE: 43169012
BYTE_COUNT: 5602
