FILENAME: O4710844.NES.1118073.tif
QUADRANGLE_NAME: BEAR CREEK RESERVOIR SE
QUADRANT: NE
WEST_LONGITUDE: -108 33 45.00000
EAST_LONGITUDE: -108 30 0.00000
NORTH_LATITUDE: 47 22 30.00000
SOUTH_LATITUDE: 47 18 45.00000
PRODUCTION_DATE: 2000 10 27
RASTER_ORDER: LEFT_RIGHT/TOP_BOTTOM
BAND_ORGANIZATION: SINGLE FILE
BAND_CONTENT: BLACK&WHITE
BAND_CONTENT: UNDEFINED
BAND_CONTENT: UNDEFINED
BITS_PER_PIXEL: 8
SAMPLES_AND_LINES: 5597 7701
HORIZONTAL_DATUM: NAD83
HORIZONTAL_COORDINATE_SYSTEM: UTM
COORDINATE_ZONE: 12
HORIZONTAL_UNITS: METERS
HORIZONTAL_RESOLUTION: 1.00000
SECONDARY_HORIZONTAL_DATUM: NAD27
XY_ORIGIN: 683653.00000 5250169.00000
SECONDARY_XY_ORIGIN: 683711.17700 5249953.48300
NATION: US
NATION: "SCIENCE
STATE: MT
NW_QUAD_CORNER_XY: 684007.24200 5249718.67600
NE_QUAD_CORNER_XY: 688725.13400 5249868.34500
SE_QUAD_CORNERY_XY: 688948.14500 5242923.06200
SW_QUAD_CORNER_XY: 684224.67200 5242773.36600
SECONDARY_NW_QUAD_XY: 684012.95800 5249500.07600
SECONDARY_NE_QUAD_XY: 688730.99700 5249649.75000
SECONDARY_SE_QUAD_XY: 688954.00800 5242704.49100
SECONDARY_SW_QUAD_XY: 684230.38800 5242554.79000
RMSE_XY: 0.80000
IMAGE_SOURCE: BLACK AND WHITE FILM
SOURCE_IMAGE_ID: NAPP 9138 081
SOURCE_IMAGE_DATE: 1996 08 23
SOURCE_DEM_DATE: 1978 00 00
AGENCY: WESTERN MAPPING CENTER (WMC)
PRODUCER: UNDEFINED
PRODUCTION_SYSTEM: GIS/MAGIC
COMPRESSION: UNDEFINED
STANDARD_VERSION: 1996 12
METADATA_DATE: 2000 11 14
DATA_FILE_SIZE: 43108094
BYTE_COUNT: 5597
