FILENAME: O4710844.SES.1118075.tif
QUADRANGLE_NAME: BEAR CREEK RESERVOIR SE
QUADRANT: SE
WEST_LONGITUDE: -108 33 45.00000
EAST_LONGITUDE: -108 30 0.00000
NORTH_LATITUDE: 47 18 45.00000
SOUTH_LATITUDE: 47 15 0.00000
PRODUCTION_DATE: 2000 10 27
RASTER_ORDER: LEFT_RIGHT/TOP_BOTTOM
BAND_ORGANIZATION: SINGLE FILE
BAND_CONTENT: BLACK&WHITE
BAND_CONTENT: UNDEFINED
BAND_CONTENT: UNDEFINED
BITS_PER_PIXEL: 8
SAMPLES_AND_LINES: 5601 7702
HORIZONTAL_DATUM: NAD83
HORIZONTAL_COORDINATE_SYSTEM: UTM
COORDINATE_ZONE: 12
HORIZONTAL_UNITS: METERS
HORIZONTAL_RESOLUTION: 1.00000
SECONDARY_HORIZONTAL_DATUM: NAD27
XY_ORIGIN: 683871.00000 5243224.00000
SECONDARY_XY_ORIGIN: 683929.15000 5243008.68400
NATION: US
NATION: "SCIENCE
STATE: MT
NW_QUAD_CORNER_XY: 684224.67200 5242773.36600
NE_QUAD_CORNER_XY: 688948.14500 5242923.06200
SE_QUAD_CORNERY_XY: 689170.93000 5235977.84100
SW_QUAD_CORNER_XY: 684441.88100 5235828.11900
SECONDARY_NW_QUAD_XY: 684230.38800 5242554.79000
SECONDARY_NE_QUAD_XY: 688954.00800 5242704.49100
SECONDARY_SE_QUAD_XY: 689176.79200 5235759.29400
SECONDARY_SW_QUAD_XY: 684447.59600 5235609.56700
RMSE_XY: 1.00000
IMAGE_SOURCE: BLACK AND WHITE FILM
SOURCE_IMAGE_ID: NAPP 9138 079
SOURCE_IMAGE_DATE: 1996 08 23
SOURCE_DEM_DATE: 1978 00 00
AGENCY: WESTERN MAPPING CENTER (WMC)
PRODUCER: UNDEFINED
PRODUCTION_SYSTEM: GIS/MAGIC
COMPRESSION: UNDEFINED
STANDARD_VERSION: 1996 12
METADATA_DATE: 2000 11 14
DATA_FILE_SIZE: 43144503
BYTE_COUNT: 5601
