FILENAME: O4710844.SWS.1118076.tif
QUADRANGLE_NAME: BEAR CREEK RESERVOIR SE
QUADRANT: SW
WEST_LONGITUDE: -108 37 30.00000
EAST_LONGITUDE: -108 33 45.00000
NORTH_LATITUDE: 47 18 45.00000
SOUTH_LATITUDE: 47 15 0.00000
PRODUCTION_DATE: 2000 10 27
RASTER_ORDER: LEFT_RIGHT/TOP_BOTTOM
BAND_ORGANIZATION: SINGLE FILE
BAND_CONTENT: BLACK&WHITE
BAND_CONTENT: UNDEFINED
BAND_CONTENT: UNDEFINED
BITS_PER_PIXEL: 8
SAMPLES_AND_LINES: 5596 7698
HORIZONTAL_DATUM: NAD83
HORIZONTAL_COORDINATE_SYSTEM: UTM
COORDINATE_ZONE: 12
HORIZONTAL_UNITS: METERS
HORIZONTAL_RESOLUTION: 1.00000
SECONDARY_HORIZONTAL_DATUM: NAD27
XY_ORIGIN: 679147.00000 5243074.00000
SECONDARY_XY_ORIGIN: 679205.23400 5242858.78400
NATION: US
NATION: "SCIENCE
STATE: MT
NW_QUAD_CORNER_XY: 679501.18100 5242627.46400
NE_QUAD_CORNER_XY: 684224.67200 5242773.36600
SE_QUAD_CORNERY_XY: 684441.88100 5235828.11900
SW_QUAD_CORNER_XY: 679712.81500 5235682.19200
SECONDARY_NW_QUAD_XY: 679506.75000 5242408.88300
SECONDARY_NE_QUAD_XY: 684230.38800 5242554.79000
SECONDARY_SE_QUAD_XY: 684447.59600 5235609.56700
SECONDARY_SW_QUAD_XY: 679718.38400 5235463.63500
RMSE_XY: 0.90000
IMAGE_SOURCE: BLACK AND WHITE FILM
SOURCE_IMAGE_ID: NAPP 9138 192
SOURCE_IMAGE_DATE: 1996 08 23
SOURCE_DEM_DATE: 1978 00 00
AGENCY: WESTERN MAPPING CENTER (WMC)
PRODUCER: UNDEFINED
PRODUCTION_SYSTEM: GIS/MAGIC
COMPRESSION: UNDEFINED
STANDARD_VERSION: 1996 12
METADATA_DATE: 2000 11 14
DATA_FILE_SIZE: 43083604
BYTE_COUNT: 5596
