FILENAME: O4710843.NES.1118065.tif
QUADRANGLE_NAME: BEAR CREEK RESERVOIR
QUADRANT: NE
WEST_LONGITUDE: -108 41 15.00000
EAST_LONGITUDE: -108 37 30.00000
NORTH_LATITUDE: 47 22 30.00000
SOUTH_LATITUDE: 47 18 45.00000
PRODUCTION_DATE: 2000 11 2
RASTER_ORDER: LEFT_RIGHT/TOP_BOTTOM
BAND_ORGANIZATION: SINGLE FILE
BAND_CONTENT: BLACK&WHITE
BAND_CONTENT: UNDEFINED
BAND_CONTENT: UNDEFINED
BITS_PER_PIXEL: 8
SAMPLES_AND_LINES: 5586 7694
HORIZONTAL_DATUM: NAD83
HORIZONTAL_COORDINATE_SYSTEM: UTM
COORDINATE_ZONE: 12
HORIZONTAL_UNITS: METERS
HORIZONTAL_RESOLUTION: 1.00000
SECONDARY_HORIZONTAL_DATUM: NAD27
XY_ORIGIN: 674217.00000 5249873.00000
SECONDARY_XY_ORIGIN: 674275.36400 5249657.67800
NATION: US
NATION: "SCIENCE
STATE: MT
NW_QUAD_CORNER_XY: 674571.40400 5249430.71600
NE_QUAD_CORNER_XY: 679289.33200 5249572.79900
SE_QUAD_CORNERY_XY: 679501.18100 5242627.46400
SW_QUAD_CORNER_XY: 674777.67300 5242485.35500
SECONDARY_NW_QUAD_XY: 674576.82700 5249212.10700
SECONDARY_NE_QUAD_XY: 679294.90200 5249354.19500
SECONDARY_SE_QUAD_XY: 679506.75000 5242408.88300
SECONDARY_SW_QUAD_XY: 674783.09600 5242266.77000
RMSE_XY: 1.20000
IMAGE_SOURCE: BLACK AND WHITE FILM
SOURCE_IMAGE_ID: NAPP 9144 165
SOURCE_IMAGE_DATE: 1996 08 25
SOURCE_DEM_DATE: 1978 00 00
AGENCY: WESTERN MAPPING CENTER (WMC)
PRODUCER: UNDEFINED
PRODUCTION_SYSTEM: GIS/MAGIC
COMPRESSION: UNDEFINED
STANDARD_VERSION: 1996 12
METADATA_DATE: 2000 11 14
DATA_FILE_SIZE: 42984270
BYTE_COUNT: 5586
