FILENAME: O4710843.NWS.1118066.tif
QUADRANGLE_NAME: BEAR CREEK RESERVOIR
QUADRANT: NW
WEST_LONGITUDE: -108 45 0.00000
EAST_LONGITUDE: -108 41 15.00000
NORTH_LATITUDE: 47 22 30.00000
SOUTH_LATITUDE: 47 18 45.00000
PRODUCTION_DATE: 2000 11 2
RASTER_ORDER: LEFT_RIGHT/TOP_BOTTOM
BAND_ORGANIZATION: SINGLE FILE
BAND_CONTENT: BLACK&WHITE
BAND_CONTENT: UNDEFINED
BAND_CONTENT: UNDEFINED
BITS_PER_PIXEL: 8
SAMPLES_AND_LINES: 5580 7690
HORIZONTAL_DATUM: NAD83
HORIZONTAL_COORDINATE_SYSTEM: UTM
COORDINATE_ZONE: 12
HORIZONTAL_UNITS: METERS
HORIZONTAL_RESOLUTION: 1.00000
SECONDARY_HORIZONTAL_DATUM: NAD27
XY_ORIGIN: 669499.00000 5249731.00000
SECONDARY_XY_ORIGIN: 669557.45800 5249515.77400
NATION: US
NATION: "SCIENCE
STATE: MT
NW_QUAD_CORNER_XY: 669853.46000 5249292.42400
NE_QUAD_CORNER_XY: 674571.40400 5249430.71600
SE_QUAD_CORNERY_XY: 674777.67300 5242485.35500
SW_QUAD_CORNER_XY: 670054.14800 5242347.04000
SECONDARY_NW_QUAD_XY: 669858.73600 5249073.81100
SECONDARY_NE_QUAD_XY: 674576.82700 5249212.10700
SECONDARY_SE_QUAD_XY: 674783.09600 5242266.77000
SECONDARY_SW_QUAD_XY: 670059.42400 5242128.45000
RMSE_XY: 0.70000
IMAGE_SOURCE: BLACK AND WHITE FILM
SOURCE_IMAGE_ID: NAPP 9163 031
SOURCE_IMAGE_DATE: 1998 07 23
SOURCE_IMAGE_ID: NAPP 9157 165
SOURCE_IMAGE_DATE: 1997 09 05
SOURCE_IMAGE_ID: NAPP 9163 032
SOURCE_IMAGE_DATE: 1998 07 23
SOURCE_DEM_DATE: 1978 00 00
AGENCY: WESTERN MAPPING CENTER (WMC)
PRODUCER: UNDEFINED
PRODUCTION_SYSTEM: GIS/MAGIC
COMPRESSION: UNDEFINED
STANDARD_VERSION: 1996 12
METADATA_DATE: 2000 11 14
DATA_FILE_SIZE: 42915780
BYTE_COUNT: 5580
