FILENAME: O4710842.NES.1118053.tif
QUADRANGLE_NAME: BOHEMIAN CORNERS
QUADRANT: NE
WEST_LONGITUDE: -108 48 45.00000
EAST_LONGITUDE: -108 45 0.00000
NORTH_LATITUDE: 47 22 30.00000
SOUTH_LATITUDE: 47 18 45.00000
PRODUCTION_DATE: 2000 11 2
RASTER_ORDER: LEFT_RIGHT/TOP_BOTTOM
BAND_ORGANIZATION: SINGLE FILE
BAND_CONTENT: BLACK&WHITE
BAND_CONTENT: UNDEFINED
BAND_CONTENT: UNDEFINED
BITS_PER_PIXEL: 8
SAMPLES_AND_LINES: 5575 7687
HORIZONTAL_DATUM: NAD83
HORIZONTAL_COORDINATE_SYSTEM: UTM
COORDINATE_ZONE: 12
HORIZONTAL_UNITS: METERS
HORIZONTAL_RESOLUTION: 1.00000
SECONDARY_HORIZONTAL_DATUM: NAD27
XY_ORIGIN: 664781.00000 5249593.00000
SECONDARY_XY_ORIGIN: 664839.53500 5249377.81200
NATION: US
NATION: "SCIENCE
STATE: MT
NW_QUAD_CORNER_XY: 665135.49800 5249157.92500
NE_QUAD_CORNER_XY: 669853.46000 5249292.42400
SE_QUAD_CORNERY_XY: 670054.14800 5242347.04000
SW_QUAD_CORNER_XY: 665330.60700 5242212.51700
SECONDARY_NW_QUAD_XY: 665140.62800 5248939.30800
SECONDARY_NE_QUAD_XY: 669858.73600 5249073.81100
SECONDARY_SE_QUAD_XY: 670059.42400 5242128.45000
SECONDARY_SW_QUAD_XY: 665335.73700 5241993.92300
RMSE_XY: 1.00000
IMAGE_SOURCE: BLACK AND WHITE FILM
SOURCE_IMAGE_ID: NAPP 9157 165
SOURCE_IMAGE_DATE: 1997 09 05
SOURCE_DEM_DATE: 1978 00 00
AGENCY: WESTERN MAPPING CENTER (WMC)
PRODUCER: UNDEFINED
PRODUCTION_SYSTEM: GIS/MAGIC
COMPRESSION: UNDEFINED
STANDARD_VERSION: 1996 12
METADATA_DATE: 2000 11 14
DATA_FILE_SIZE: 42860600
BYTE_COUNT: 5575
