FILENAME: O4710842.NWS.1118054.tif
QUADRANGLE_NAME: BOHEMIAN CORNERS
QUADRANT: NW
WEST_LONGITUDE: -108 52 30.00000
EAST_LONGITUDE: -108 48 45.00000
NORTH_LATITUDE: 47 22 30.00000
SOUTH_LATITUDE: 47 18 45.00000
PRODUCTION_DATE: 2000 11 2
RASTER_ORDER: LEFT_RIGHT/TOP_BOTTOM
BAND_ORGANIZATION: SINGLE FILE
BAND_CONTENT: BLACK&WHITE
BAND_CONTENT: UNDEFINED
BAND_CONTENT: UNDEFINED
BITS_PER_PIXEL: 8
SAMPLES_AND_LINES: 5570 7682
HORIZONTAL_DATUM: NAD83
HORIZONTAL_COORDINATE_SYSTEM: UTM
COORDINATE_ZONE: 12
HORIZONTAL_UNITS: METERS
HORIZONTAL_RESOLUTION: 1.00000
SECONDARY_HORIZONTAL_DATUM: NAD27
XY_ORIGIN: 660062.00000 5249458.00000
SECONDARY_XY_ORIGIN: 660120.60500 5249242.85900
NATION: US
NATION: "SCIENCE
STATE: MT
NW_QUAD_CORNER_XY: 660417.52100 5249027.21800
NE_QUAD_CORNER_XY: 665135.49800 5249157.92500
SE_QUAD_CORNERY_XY: 665330.60700 5242212.51700
SW_QUAD_CORNER_XY: 660607.05100 5242081.78700
SECONDARY_NW_QUAD_XY: 660422.50400 5248808.59700
SECONDARY_NE_QUAD_XY: 665140.62800 5248939.30800
SECONDARY_SE_QUAD_XY: 665335.73700 5241993.92300
SECONDARY_SW_QUAD_XY: 660612.03400 5241863.18900
RMSE_XY: 1.10000
IMAGE_SOURCE: BLACK AND WHITE FILM
SOURCE_IMAGE_ID: NAPP 9157 056
SOURCE_IMAGE_DATE: 1997 09 05
SOURCE_DEM_DATE: 1978 00 00
AGENCY: WESTERN MAPPING CENTER (WMC)
PRODUCER: UNDEFINED
PRODUCTION_SYSTEM: GIS/MAGIC
COMPRESSION: UNDEFINED
STANDARD_VERSION: 1996 12
METADATA_DATE: 2000 11 14
DATA_FILE_SIZE: 42794310
BYTE_COUNT: 5570
