FILENAME: O4710841.SES.1118039.tif
QUADRANGLE_NAME: ROY
QUADRANT: SE
WEST_LONGITUDE: -108 56 15.00000
EAST_LONGITUDE: -108 52 30.00000
NORTH_LATITUDE: 47 18 45.00000
SOUTH_LATITUDE: 47 15 0.00000
PRODUCTION_DATE: 2000 11 2
RASTER_ORDER: LEFT_RIGHT/TOP_BOTTOM
BAND_ORGANIZATION: SINGLE FILE
BAND_CONTENT: BLACK&WHITE
BAND_CONTENT: UNDEFINED
BAND_CONTENT: UNDEFINED
BITS_PER_PIXEL: 8
SAMPLES_AND_LINES: 5570 7679
HORIZONTAL_DATUM: NAD83
HORIZONTAL_COORDINATE_SYSTEM: UTM
COORDINATE_ZONE: 12
HORIZONTAL_UNITS: METERS
HORIZONTAL_RESOLUTION: 1.00000
SECONDARY_HORIZONTAL_DATUM: NAD27
XY_ORIGIN: 655528.00000 5242382.00000
SECONDARY_XY_ORIGIN: 655586.67100 5242167.06700
NATION: US
NATION: "SCIENCE
STATE: MT
NW_QUAD_CORNER_XY: 655883.47900 5241954.84900
NE_QUAD_CORNER_XY: 660607.05100 5242081.78700
SE_QUAD_CORNERY_XY: 660796.38900 5235136.42100
SW_QUAD_CORNER_XY: 656067.24400 5235009.46100
SECONDARY_NW_QUAD_XY: 655888.31500 5241736.24700
SECONDARY_NE_QUAD_XY: 660612.03400 5241863.18900
SECONDARY_SE_QUAD_XY: 660801.37100 5234917.84700
SECONDARY_SW_QUAD_XY: 656072.07900 5234790.88300
RMSE_XY: 1.00000
IMAGE_SOURCE: BLACK AND WHITE FILM
SOURCE_IMAGE_ID: NAPP 9147 109
SOURCE_IMAGE_DATE: 1996 08 24
SOURCE_DEM_DATE: 1978 00 00
AGENCY: WESTERN MAPPING CENTER (WMC)
PRODUCER: UNDEFINED
PRODUCTION_SYSTEM: GIS/MAGIC
COMPRESSION: UNDEFINED
STANDARD_VERSION: 1996 12
METADATA_DATE: 2000 11 14
DATA_FILE_SIZE: 42777600
BYTE_COUNT: 5570
