FILENAME: O4710840.SWS.1118294.tif
QUADRANGLE_NAME: WEINGART PLACE
QUADRANT: SW
WEST_LONGITUDE: -108 7 30.00000
EAST_LONGITUDE: -108 3 45.00000
NORTH_LATITUDE: 47 26 15.00000
SOUTH_LATITUDE: 47 22 30.00000
PRODUCTION_DATE: 2000 10 31
RASTER_ORDER: LEFT_RIGHT/TOP_BOTTOM
BAND_ORGANIZATION: SINGLE FILE
BAND_CONTENT: BLACK&WHITE
BAND_CONTENT: UNDEFINED
BAND_CONTENT: UNDEFINED
BITS_PER_PIXEL: 8
SAMPLES_AND_LINES: 5628 7727
HORIZONTAL_DATUM: NAD83
HORIZONTAL_COORDINATE_SYSTEM: UTM
COORDINATE_ZONE: 12
HORIZONTAL_UNITS: METERS
HORIZONTAL_RESOLUTION: 1.00000
SECONDARY_HORIZONTAL_DATUM: NAD27
XY_ORIGIN: 716423.00000 5258268.00000
SECONDARY_XY_ORIGIN: 716480.59900 5258051.83300
NATION: US
NATION: "SCIENCE
STATE: MT
NW_QUAD_CORNER_XY: 716775.31200 5257791.20100
NE_QUAD_CORNER_XY: 721487.47400 5257967.39900
SE_QUAD_CORNERY_XY: 721749.83300 5251022.26500
SW_QUAD_CORNER_XY: 717032.08100 5250846.03500
SECONDARY_NW_QUAD_XY: 716782.05500 5257572.61300
SECONDARY_NE_QUAD_XY: 721494.36400 5257748.81700
SECONDARY_SE_QUAD_XY: 721756.72300 5250803.70600
SECONDARY_SW_QUAD_XY: 717038.82400 5250627.47000
RMSE_XY: 1.40000
IMAGE_SOURCE: BLACK AND WHITE FILM
SOURCE_IMAGE_ID: NAPP 9142 204
SOURCE_IMAGE_DATE: 1996 08 24
SOURCE_DEM_DATE: 1964 00 00
AGENCY: WESTERN MAPPING CENTER (WMC)
PRODUCER: UNDEFINED
PRODUCTION_SYSTEM: GIS/MAGIC
COMPRESSION: UNDEFINED
STANDARD_VERSION: 1996 12
METADATA_DATE: 2000 11 14
DATA_FILE_SIZE: 43493184
BYTE_COUNT: 5628
