FILENAME: O4710839.NWS.1118280.tif
QUADRANGLE_NAME: WEINGART PLACE NW
QUADRANT: NW
WEST_LONGITUDE: -108 15 0.00000
EAST_LONGITUDE: -108 11 15.00000
NORTH_LATITUDE: 47 30 0.00000
SOUTH_LATITUDE: 47 26 15.00000
PRODUCTION_DATE: 2000 10 30
RASTER_ORDER: LEFT_RIGHT/TOP_BOTTOM
BAND_ORGANIZATION: SINGLE FILE
BAND_CONTENT: BLACK&WHITE
BAND_CONTENT: UNDEFINED
BAND_CONTENT: UNDEFINED
BITS_PER_PIXEL: 8
SAMPLES_AND_LINES: 5612 7720
HORIZONTAL_DATUM: NAD83
HORIZONTAL_COORDINATE_SYSTEM: UTM
COORDINATE_ZONE: 12
HORIZONTAL_UNITS: METERS
HORIZONTAL_RESOLUTION: 1.00000
SECONDARY_HORIZONTAL_DATUM: NAD27
XY_ORIGIN: 706753.00000 5264865.00000
SECONDARY_XY_ORIGIN: 706810.47700 5264648.69900
NATION: US
NATION: "SCIENCE
STATE: MT
NW_QUAD_CORNER_XY: 707105.08400 5264395.47600
NE_QUAD_CORNER_XY: 711811.69500 5264564.05300
SE_QUAD_CORNERY_XY: 712063.12800 5257618.79800
SW_QUAD_CORNER_XY: 707350.92200 5257450.18900
SECONDARY_NW_QUAD_XY: 707111.53500 5264176.85600
SECONDARY_NE_QUAD_XY: 711818.29300 5264345.43800
SECONDARY_SE_QUAD_XY: 712069.72500 5257400.20500
SECONDARY_SW_QUAD_XY: 707357.37300 5257231.59000
RMSE_XY: 1.60000
IMAGE_SOURCE: BLACK AND WHITE FILM
SOURCE_IMAGE_ID: NAPP 9143 186
SOURCE_IMAGE_DATE: 1996 08 24
SOURCE_DEM_DATE: 1964 00 00
AGENCY: WESTERN MAPPING CENTER (WMC)
PRODUCER: UNDEFINED
PRODUCTION_SYSTEM: GIS/MAGIC
COMPRESSION: UNDEFINED
STANDARD_VERSION: 1996 12
METADATA_DATE: 2000 11 14
DATA_FILE_SIZE: 43330252
BYTE_COUNT: 5612
