FILENAME: O4710838.NWS.1118255.tif
QUADRANGLE_NAME: DOVETAIL BUTTE
QUADRANT: NW
WEST_LONGITUDE: -108 22 30.00000
EAST_LONGITUDE: -108 18 45.00000
NORTH_LATITUDE: 47 30 0.00000
SOUTH_LATITUDE: 47 26 15.00000
PRODUCTION_DATE: 2000 10 30
RASTER_ORDER: LEFT_RIGHT/TOP_BOTTOM
BAND_ORGANIZATION: SINGLE FILE
BAND_CONTENT: BLACK&WHITE
BAND_CONTENT: UNDEFINED
BAND_CONTENT: UNDEFINED
BITS_PER_PIXEL: 8
SAMPLES_AND_LINES: 5601 7712
HORIZONTAL_DATUM: NAD83
HORIZONTAL_COORDINATE_SYSTEM: UTM
COORDINATE_ZONE: 12
HORIZONTAL_UNITS: METERS
HORIZONTAL_RESOLUTION: 1.00000
SECONDARY_HORIZONTAL_DATUM: NAD27
XY_ORIGIN: 697339.00000 5264531.00000
SECONDARY_XY_ORIGIN: 697396.79700 5264314.84900
NATION: US
NATION: "SCIENCE
STATE: MT
NW_QUAD_CORNER_XY: 697691.80000 5264069.70100
NE_QUAD_CORNER_XY: 702398.45300 5264230.69200
SE_QUAD_CORNERY_XY: 702638.69600 5257285.37400
SW_QUAD_CORNER_XY: 697926.44900 5257124.35300
SECONDARY_NW_QUAD_XY: 697697.95800 5263851.07000
SECONDARY_NE_QUAD_XY: 702404.75700 5264012.06600
SECONDARY_SE_QUAD_XY: 702645.00000 5257066.77000
SECONDARY_SW_QUAD_XY: 697932.60600 5256905.74400
RMSE_XY: 0.90000
IMAGE_SOURCE: BLACK AND WHITE FILM
SOURCE_IMAGE_ID: NAPP 9143 272
SOURCE_IMAGE_DATE: 1996 08 24
SOURCE_IMAGE_ID: NAPP 9144 016
SOURCE_IMAGE_DATE: 1996 08 25
SOURCE_DEM_DATE: 1978 00 00
AGENCY: WESTERN MAPPING CENTER (WMC)
PRODUCER: UNDEFINED
PRODUCTION_SYSTEM: GIS/MAGIC
COMPRESSION: UNDEFINED
STANDARD_VERSION: 1996 12
METADATA_DATE: 2000 11 14
DATA_FILE_SIZE: 43200513
BYTE_COUNT: 5601
