FILENAME: O4710838.SWS.1118257.tif
QUADRANGLE_NAME: DOVETAIL BUTTE
QUADRANT: SW
WEST_LONGITUDE: -108 22 30.00000
EAST_LONGITUDE: -108 18 45.00000
NORTH_LATITUDE: 47 26 15.00000
SOUTH_LATITUDE: 47 22 30.00000
PRODUCTION_DATE: 2000 10 30
RASTER_ORDER: LEFT_RIGHT/TOP_BOTTOM
BAND_ORGANIZATION: SINGLE FILE
BAND_CONTENT: BLACK&WHITE
BAND_CONTENT: UNDEFINED
BAND_CONTENT: UNDEFINED
BITS_PER_PIXEL: 8
SAMPLES_AND_LINES: 5607 7712
HORIZONTAL_DATUM: NAD83
HORIZONTAL_COORDINATE_SYSTEM: UTM
COORDINATE_ZONE: 12
HORIZONTAL_UNITS: METERS
HORIZONTAL_RESOLUTION: 1.00000
SECONDARY_HORIZONTAL_DATUM: NAD27
XY_ORIGIN: 697573.00000 5257586.00000
SECONDARY_XY_ORIGIN: 697630.81800 5257370.03700
NATION: US
NATION: "SCIENCE
STATE: MT
NW_QUAD_CORNER_XY: 697926.44900 5257124.35300
NE_QUAD_CORNER_XY: 702638.69600 5257285.37400
SE_QUAD_CORNERY_XY: 702878.69700 5250340.11500
SW_QUAD_CORNER_XY: 698160.86200 5250179.06500
SECONDARY_NW_QUAD_XY: 697932.60600 5256905.74400
SECONDARY_NE_QUAD_XY: 702645.00000 5257066.77000
SECONDARY_SE_QUAD_XY: 702885.00000 5250121.53500
SECONDARY_SW_QUAD_XY: 698167.01800 5249960.47900
RMSE_XY: 0.90000
IMAGE_SOURCE: BLACK AND WHITE FILM
SOURCE_IMAGE_ID: NAPP 9143 274
SOURCE_IMAGE_DATE: 1996 08 24
SOURCE_IMAGE_ID: NAPP 9144 014
SOURCE_IMAGE_DATE: 1996 08 25
SOURCE_IMAGE_ID: NAPP 9144 016
SOURCE_IMAGE_DATE: 1996 08 25
SOURCE_DEM_DATE: 1978 00 00
AGENCY: WESTERN MAPPING CENTER (WMC)
PRODUCER: UNDEFINED
PRODUCTION_SYSTEM: GIS/MAGIC
COMPRESSION: UNDEFINED
STANDARD_VERSION: 1996 12
METADATA_DATE: 2000 11 14
DATA_FILE_SIZE: 43246791
BYTE_COUNT: 5607
