FILENAME: O4710837.NWS.1118243.tif
QUADRANGLE_NAME: PIPES COULEE
QUADRANT: NW
WEST_LONGITUDE: -108 30 0.00000
EAST_LONGITUDE: -108 26 15.00000
NORTH_LATITUDE: 47 30 0.00000
SOUTH_LATITUDE: 47 26 15.00000
PRODUCTION_DATE: 2000 10 30
RASTER_ORDER: LEFT_RIGHT/TOP_BOTTOM
BAND_ORGANIZATION: SINGLE FILE
BAND_CONTENT: BLACK&WHITE
BAND_CONTENT: UNDEFINED
BAND_CONTENT: UNDEFINED
BITS_PER_PIXEL: 8
SAMPLES_AND_LINES: 5591 7705
HORIZONTAL_DATUM: NAD83
HORIZONTAL_COORDINATE_SYSTEM: UTM
COORDINATE_ZONE: 12
HORIZONTAL_UNITS: METERS
HORIZONTAL_RESOLUTION: 1.00000
SECONDARY_HORIZONTAL_DATUM: NAD27
XY_ORIGIN: 687925.00000 5264213.00000
SECONDARY_XY_ORIGIN: 687983.11500 5263996.99100
NATION: US
NATION: "SCIENCE
STATE: MT
NW_QUAD_CORNER_XY: 688278.43400 5263759.09600
NE_QUAD_CORNER_XY: 692985.12700 5263912.50200
SE_QUAD_CORNERY_XY: 693214.18300 5256967.12500
SW_QUAD_CORNER_XY: 688501.89700 5256813.69000
SECONDARY_NW_QUAD_XY: 688284.29800 5263540.45600
SECONDARY_NE_QUAD_XY: 692991.13800 5263693.86700
SECONDARY_SE_QUAD_XY: 693220.19300 5256748.51100
SECONDARY_SW_QUAD_XY: 688507.76000 5256595.07100
RMSE_XY: 1.70000
IMAGE_SOURCE: BLACK AND WHITE FILM
SOURCE_IMAGE_ID: NAPP 9144 154
SOURCE_IMAGE_DATE: 1996 08 25
SOURCE_IMAGE_ID: NAPP 9144 016
SOURCE_IMAGE_DATE: 1996 08 25
SOURCE_DEM_DATE: 1978 00 00
AGENCY: WESTERN MAPPING CENTER (WMC)
PRODUCER: UNDEFINED
PRODUCTION_SYSTEM: GIS/MAGIC
COMPRESSION: UNDEFINED
STANDARD_VERSION: 1996 12
METADATA_DATE: 2000 11 14
DATA_FILE_SIZE: 43084246
BYTE_COUNT: 5591
