FILENAME: O4710837.SES.1118244.tif
QUADRANGLE_NAME: PIPES COULEE
QUADRANT: SE
WEST_LONGITUDE: -108 26 15.00000
EAST_LONGITUDE: -108 22 30.00000
NORTH_LATITUDE: 47 26 15.00000
SOUTH_LATITUDE: 47 22 30.00000
PRODUCTION_DATE: 2000 10 30
RASTER_ORDER: LEFT_RIGHT/TOP_BOTTOM
BAND_ORGANIZATION: SINGLE FILE
BAND_CONTENT: BLACK&WHITE
BAND_CONTENT: UNDEFINED
BAND_CONTENT: UNDEFINED
BITS_PER_PIXEL: 8
SAMPLES_AND_LINES: 5601 7709
HORIZONTAL_DATUM: NAD83
HORIZONTAL_COORDINATE_SYSTEM: UTM
COORDINATE_ZONE: 12
HORIZONTAL_UNITS: METERS
HORIZONTAL_RESOLUTION: 1.00000
SECONDARY_HORIZONTAL_DATUM: NAD27
XY_ORIGIN: 692861.00000 5257425.00000
SECONDARY_XY_ORIGIN: 692918.95800 5257209.11300
NATION: US
NATION: "SCIENCE
STATE: MT
NW_QUAD_CORNER_XY: 693214.18300 5256967.12500
NE_QUAD_CORNER_XY: 697926.44900 5257124.35300
SE_QUAD_CORNERY_XY: 698160.86200 5250179.06500
SW_QUAD_CORNER_XY: 693443.00700 5250021.80800
SECONDARY_NW_QUAD_XY: 693220.19300 5256748.51100
SECONDARY_NE_QUAD_XY: 697932.60600 5256905.74400
SECONDARY_SE_QUAD_XY: 698167.01800 5249960.47900
SECONDARY_SW_QUAD_XY: 693449.01700 5249803.21700
RMSE_XY: 1.00000
IMAGE_SOURCE: BLACK AND WHITE FILM
SOURCE_IMAGE_ID: NAPP 9144 015
SOURCE_IMAGE_DATE: 1996 08 25
SOURCE_IMAGE_ID: NAPP 9144 016
SOURCE_IMAGE_DATE: 1996 08 25
SOURCE_DEM_DATE: 1978 00 00
AGENCY: WESTERN MAPPING CENTER (WMC)
PRODUCER: UNDEFINED
PRODUCTION_SYSTEM: GIS/MAGIC
COMPRESSION: UNDEFINED
STANDARD_VERSION: 1996 12
METADATA_DATE: 2000 11 14
DATA_FILE_SIZE: 43183710
BYTE_COUNT: 5601
