FILENAME: O4710836.SES.1118232.tif
QUADRANGLE_NAME: KACHIA RESERVOIR
QUADRANT: SE
WEST_LONGITUDE: -108 33 45.00000
EAST_LONGITUDE: -108 30 0.00000
NORTH_LATITUDE: 47 26 15.00000
SOUTH_LATITUDE: 47 22 30.00000
PRODUCTION_DATE: 2000 10 27
RASTER_ORDER: LEFT_RIGHT/TOP_BOTTOM
BAND_ORGANIZATION: SINGLE FILE
BAND_CONTENT: BLACK&WHITE
BAND_CONTENT: UNDEFINED
BAND_CONTENT: UNDEFINED
BITS_PER_PIXEL: 8
SAMPLES_AND_LINES: 5591 7701
HORIZONTAL_DATUM: NAD83
HORIZONTAL_COORDINATE_SYSTEM: UTM
COORDINATE_ZONE: 12
HORIZONTAL_UNITS: METERS
HORIZONTAL_RESOLUTION: 1.00000
SECONDARY_HORIZONTAL_DATUM: NAD27
XY_ORIGIN: 683436.00000 5257114.00000
SECONDARY_XY_ORIGIN: 683494.20300 5256898.28400
NATION: US
NATION: "SCIENCE
STATE: MT
NW_QUAD_CORNER_XY: 683789.59100 5256664.04700
NE_QUAD_CORNER_XY: 688501.89700 5256813.69000
SE_QUAD_CORNERY_XY: 688725.13400 5249868.34500
SW_QUAD_CORNER_XY: 684007.24200 5249718.67600
SECONDARY_NW_QUAD_XY: 683795.30900 5256445.42400
SECONDARY_NE_QUAD_XY: 688507.76000 5256595.07100
SECONDARY_SE_QUAD_XY: 688730.99700 5249649.75000
SECONDARY_SW_QUAD_XY: 684012.95800 5249500.07600
RMSE_XY: 0.70000
IMAGE_SOURCE: BLACK AND WHITE FILM
SOURCE_IMAGE_ID: NAPP 9138 083
SOURCE_IMAGE_DATE: 1996 08 23
SOURCE_DEM_DATE: 1978 00 00
AGENCY: WESTERN MAPPING CENTER (WMC)
PRODUCER: UNDEFINED
PRODUCTION_SYSTEM: GIS/MAGIC
COMPRESSION: UNDEFINED
STANDARD_VERSION: 1996 12
METADATA_DATE: 2000 11 14
DATA_FILE_SIZE: 43061882
BYTE_COUNT: 5591
