FILENAME: O4710835.NES.1118061.tif
QUADRANGLE_NAME: SLOAN RESERVOIR
QUADRANT: NE
WEST_LONGITUDE: -108 41 15.00000
EAST_LONGITUDE: -108 37 30.00000
NORTH_LATITUDE: 47 30 0.00000
SOUTH_LATITUDE: 47 26 15.00000
PRODUCTION_DATE: 2000 11 2
RASTER_ORDER: LEFT_RIGHT/TOP_BOTTOM
BAND_ORGANIZATION: SINGLE FILE
BAND_CONTENT: BLACK&WHITE
BAND_CONTENT: UNDEFINED
BAND_CONTENT: UNDEFINED
BITS_PER_PIXEL: 8
SAMPLES_AND_LINES: 5575 7693
HORIZONTAL_DATUM: NAD83
HORIZONTAL_COORDINATE_SYSTEM: UTM
COORDINATE_ZONE: 12
HORIZONTAL_UNITS: METERS
HORIZONTAL_RESOLUTION: 1.00000
SECONDARY_HORIZONTAL_DATUM: NAD27
XY_ORIGIN: 673804.00000 5263764.00000
SECONDARY_XY_ORIGIN: 673862.45500 5263548.26800
NATION: US
NATION: "SCIENCE
STATE: MT
NW_QUAD_CORNER_XY: 674158.24000 5263321.62800
NE_QUAD_CORNER_XY: 678864.99000 5263463.65900
SE_QUAD_CORNERY_XY: 679077.26800 5256518.19800
SW_QUAD_CORNER_XY: 674364.92600 5256376.14000
SECONDARY_NW_QUAD_XY: 674163.66400 5263102.97400
SECONDARY_NE_QUAD_XY: 678870.56100 5263245.00900
SECONDARY_SE_QUAD_XY: 679082.83900 5256299.57000
SECONDARY_SW_QUAD_XY: 674370.35000 5256157.50800
RMSE_XY: 2.90000
IMAGE_SOURCE: BLACK AND WHITE FILM
SOURCE_IMAGE_ID: NAPP 9144 169
SOURCE_IMAGE_DATE: 1996 08 25
SOURCE_IMAGE_ID: NAPP 9138 185
SOURCE_IMAGE_DATE: 1996 08 23
SOURCE_DEM_DATE: 1978 00 00
AGENCY: WESTERN MAPPING CENTER (WMC)
PRODUCER: UNDEFINED
PRODUCTION_SYSTEM: GIS/MAGIC
COMPRESSION: UNDEFINED
STANDARD_VERSION: 1996 12
METADATA_DATE: 2000 11 14
DATA_FILE_SIZE: 42894050
BYTE_COUNT: 5575
