FILENAME: O4710835.SES.1118063.tif
QUADRANGLE_NAME: SLOAN RESERVOIR
QUADRANT: SE
WEST_LONGITUDE: -108 41 15.00000
EAST_LONGITUDE: -108 37 30.00000
NORTH_LATITUDE: 47 26 15.00000
SOUTH_LATITUDE: 47 22 30.00000
PRODUCTION_DATE: 2000 11 2
RASTER_ORDER: LEFT_RIGHT/TOP_BOTTOM
BAND_ORGANIZATION: SINGLE FILE
BAND_CONTENT: BLACK&WHITE
BAND_CONTENT: UNDEFINED
BAND_CONTENT: UNDEFINED
BITS_PER_PIXEL: 8
SAMPLES_AND_LINES: 5581 7694
HORIZONTAL_DATUM: NAD83
HORIZONTAL_COORDINATE_SYSTEM: UTM
COORDINATE_ZONE: 12
HORIZONTAL_UNITS: METERS
HORIZONTAL_RESOLUTION: 1.00000
SECONDARY_HORIZONTAL_DATUM: NAD27
XY_ORIGIN: 674010.00000 5256819.00000
SECONDARY_XY_ORIGIN: 674068.41000 5256603.47300
NATION: US
NATION: "SCIENCE
STATE: MT
NW_QUAD_CORNER_XY: 674364.92600 5256376.14000
NE_QUAD_CORNER_XY: 679077.26800 5256518.19800
SE_QUAD_CORNERY_XY: 679289.33200 5249572.79900
SW_QUAD_CORNER_XY: 674571.40400 5249430.71600
SECONDARY_NW_QUAD_XY: 674370.35000 5256157.50800
SECONDARY_NE_QUAD_XY: 679082.83900 5256299.57000
SECONDARY_SE_QUAD_XY: 679294.90200 5249354.19500
SECONDARY_SW_QUAD_XY: 674576.82700 5249212.10700
RMSE_XY: 1.00000
IMAGE_SOURCE: BLACK AND WHITE FILM
SOURCE_IMAGE_ID: NAPP 9144 167
SOURCE_IMAGE_DATE: 1996 08 25
SOURCE_DEM_DATE: 1978 00 00
AGENCY: WESTERN MAPPING CENTER (WMC)
PRODUCER: UNDEFINED
PRODUCTION_SYSTEM: GIS/MAGIC
COMPRESSION: UNDEFINED
STANDARD_VERSION: 1996 12
METADATA_DATE: 2000 11 14
DATA_FILE_SIZE: 42945795
BYTE_COUNT: 5581
