FILENAME: O4710835.SWS.1118064.tif
QUADRANGLE_NAME: SLOAN RESERVOIR
QUADRANT: SW
WEST_LONGITUDE: -108 45 0.00000
EAST_LONGITUDE: -108 41 15.00000
NORTH_LATITUDE: 47 26 15.00000
SOUTH_LATITUDE: 47 22 30.00000
PRODUCTION_DATE: 2000 11 2
RASTER_ORDER: LEFT_RIGHT/TOP_BOTTOM
BAND_ORGANIZATION: SINGLE FILE
BAND_CONTENT: BLACK&WHITE
BAND_CONTENT: UNDEFINED
BAND_CONTENT: UNDEFINED
BITS_PER_PIXEL: 8
SAMPLES_AND_LINES: 5575 7690
HORIZONTAL_DATUM: NAD83
HORIZONTAL_COORDINATE_SYSTEM: UTM
COORDINATE_ZONE: 12
HORIZONTAL_UNITS: METERS
HORIZONTAL_RESOLUTION: 1.00000
SECONDARY_HORIZONTAL_DATUM: NAD27
XY_ORIGIN: 669298.00000 5256677.00000
SECONDARY_XY_ORIGIN: 669356.51300 5256461.56700
NATION: US
NATION: "SCIENCE
STATE: MT
NW_QUAD_CORNER_XY: 669652.56700 5256237.87400
NE_QUAD_CORNER_XY: 674364.92600 5256376.14000
SE_QUAD_CORNERY_XY: 674571.40400 5249430.71600
SW_QUAD_CORNER_XY: 669853.46000 5249292.42400
SECONDARY_NW_QUAD_XY: 669657.84500 5256019.23700
SECONDARY_NE_QUAD_XY: 674370.35000 5256157.50800
SECONDARY_SE_QUAD_XY: 674576.82700 5249212.10700
SECONDARY_SW_QUAD_XY: 669858.73600 5249073.81100
RMSE_XY: 0.80000
IMAGE_SOURCE: BLACK AND WHITE FILM
SOURCE_IMAGE_ID: NAPP 9144 272
SOURCE_IMAGE_DATE: 1996 08 25
SOURCE_DEM_DATE: 1978 00 00
AGENCY: WESTERN MAPPING CENTER (WMC)
PRODUCER: UNDEFINED
PRODUCTION_SYSTEM: GIS/MAGIC
COMPRESSION: UNDEFINED
STANDARD_VERSION: 1996 12
METADATA_DATE: 2000 11 14
DATA_FILE_SIZE: 42877325
BYTE_COUNT: 5575
