FILENAME: O4710834.NES.1118049.tif
QUADRANGLE_NAME: GRIFFEE COULEE
QUADRANT: NE
WEST_LONGITUDE: -108 48 45.00000
EAST_LONGITUDE: -108 45 0.00000
NORTH_LATITUDE: 47 30 0.00000
SOUTH_LATITUDE: 47 26 15.00000
PRODUCTION_DATE: 2000 11 2
RASTER_ORDER: LEFT_RIGHT/TOP_BOTTOM
BAND_ORGANIZATION: SINGLE FILE
BAND_CONTENT: BLACK&WHITE
BAND_CONTENT: UNDEFINED
BAND_CONTENT: UNDEFINED
BITS_PER_PIXEL: 8
SAMPLES_AND_LINES: 5564 7686
HORIZONTAL_DATUM: NAD83
HORIZONTAL_COORDINATE_SYSTEM: UTM
COORDINATE_ZONE: 12
HORIZONTAL_UNITS: METERS
HORIZONTAL_RESOLUTION: 1.00000
SECONDARY_HORIZONTAL_DATUM: NAD27
XY_ORIGIN: 664390.00000 5263484.00000
SECONDARY_XY_ORIGIN: 664448.60900 5263268.43100
NATION: US
NATION: "SCIENCE
STATE: MT
NW_QUAD_CORNER_XY: 664744.68700 5263048.93800
NE_QUAD_CORNER_XY: 669451.47200 5263183.38700
SE_QUAD_CORNERY_XY: 669652.56700 5256237.87400
SW_QUAD_CORNER_XY: 664940.19100 5256103.39900
SECONDARY_NW_QUAD_XY: 664749.81800 5262830.27500
SECONDARY_NE_QUAD_XY: 669456.75000 5262964.72900
SECONDARY_SE_QUAD_XY: 669657.84500 5256019.23700
SECONDARY_SW_QUAD_XY: 664945.32200 5255884.75900
RMSE_XY: 1.30000
IMAGE_SOURCE: BLACK AND WHITE FILM
SOURCE_IMAGE_ID: NAPP 9157 161
SOURCE_IMAGE_DATE: 1997 09 05
SOURCE_DEM_DATE: 1978 00 00
AGENCY: WESTERN MAPPING CENTER (WMC)
PRODUCER: UNDEFINED
PRODUCTION_SYSTEM: GIS/MAGIC
COMPRESSION: UNDEFINED
STANDARD_VERSION: 1996 12
METADATA_DATE: 2000 11 14
DATA_FILE_SIZE: 42770468
BYTE_COUNT: 5564
